BEGIN:VCALENDAR
VERSION:2.0
PRODID:-//St. Peter&#039;s Church - ECPv6.15.20//NONSGML v1.0//EN
CALSCALE:GREGORIAN
METHOD:PUBLISH
X-ORIGINAL-URL:https://stpeterstoronto.ca/main
X-WR-CALDESC:Events for St. Peter&#039;s Church
REFRESH-INTERVAL;VALUE=DURATION:PT1H
X-Robots-Tag:noindex
X-PUBLISHED-TTL:PT1H
BEGIN:VTIMEZONE
TZID:America/Toronto
BEGIN:DAYLIGHT
TZOFFSETFROM:-0500
TZOFFSETTO:-0400
TZNAME:EDT
DTSTART:20220313T070000
END:DAYLIGHT
BEGIN:STANDARD
TZOFFSETFROM:-0400
TZOFFSETTO:-0500
TZNAME:EST
DTSTART:20221106T060000
END:STANDARD
BEGIN:DAYLIGHT
TZOFFSETFROM:-0500
TZOFFSETTO:-0400
TZNAME:EDT
DTSTART:20230312T070000
END:DAYLIGHT
BEGIN:STANDARD
TZOFFSETFROM:-0400
TZOFFSETTO:-0500
TZNAME:EST
DTSTART:20231105T060000
END:STANDARD
BEGIN:DAYLIGHT
TZOFFSETFROM:-0500
TZOFFSETTO:-0400
TZNAME:EDT
DTSTART:20240310T070000
END:DAYLIGHT
BEGIN:STANDARD
TZOFFSETFROM:-0400
TZOFFSETTO:-0500
TZNAME:EST
DTSTART:20241103T060000
END:STANDARD
END:VTIMEZONE
BEGIN:VEVENT
DTSTART;TZID=America/Toronto:20230527T130000
DTEND;TZID=America/Toronto:20230527T190000
DTSTAMP:20260419T194043
CREATED:20230421T150754Z
LAST-MODIFIED:20230421T150754Z
UID:7806-1685192400-1685214000@stpeterstoronto.ca
SUMMARY:2023 Parish Spring Fair
DESCRIPTION:Mark your calendars for the highly anticipated St. Peter’s Parish Spring Fair 2023!\nWith delicious food and desserts\, a wide selection of books\, a flea market full of hidden treasures\, and exciting games and crafts\, this event promises to be a fun-filled experience for the whole family. Join us on Saturday\, May 27 from 1 pm- 7pm and Sunday\, May 28 from 10 am – 1 pm at our church auditorium located across from the Bathurst subway station. Don’t miss out on this wonderful community gathering!
URL:https://stpeterstoronto.ca/main/events/2023-parish-spring-fair/2023-05-27/
LOCATION:St. Peter’s Church – Main\, 659 Markham Street\, Toronto\, Ontario\, M6G 2M1\, Canada
CATEGORIES:General News,Social
GEO:43.6656351;-79.4125088
X-APPLE-STRUCTURED-LOCATION;VALUE=URI;X-ADDRESS=St. Peter’s Church – Main 659 Markham Street Toronto Ontario M6G 2M1 Canada;X-APPLE-RADIUS=500;X-TITLE=659 Markham Street:geo:-79.4125088,43.6656351
END:VEVENT
END:VCALENDAR