BEGIN:VCALENDAR
VERSION:2.0
PRODID:-//St. Peter&#039;s Church - ECPv6.15.20//NONSGML v1.0//EN
CALSCALE:GREGORIAN
METHOD:PUBLISH
X-ORIGINAL-URL:https://stpeterstoronto.ca/main
X-WR-CALDESC:Events for St. Peter&#039;s Church
REFRESH-INTERVAL;VALUE=DURATION:PT1H
X-Robots-Tag:noindex
X-PUBLISHED-TTL:PT1H
BEGIN:VTIMEZONE
TZID:America/Toronto
BEGIN:DAYLIGHT
TZOFFSETFROM:-0500
TZOFFSETTO:-0400
TZNAME:EDT
DTSTART:20210314T070000
END:DAYLIGHT
BEGIN:STANDARD
TZOFFSETFROM:-0400
TZOFFSETTO:-0500
TZNAME:EST
DTSTART:20211107T060000
END:STANDARD
BEGIN:DAYLIGHT
TZOFFSETFROM:-0500
TZOFFSETTO:-0400
TZNAME:EDT
DTSTART:20220313T070000
END:DAYLIGHT
BEGIN:STANDARD
TZOFFSETFROM:-0400
TZOFFSETTO:-0500
TZNAME:EST
DTSTART:20221106T060000
END:STANDARD
BEGIN:DAYLIGHT
TZOFFSETFROM:-0500
TZOFFSETTO:-0400
TZNAME:EDT
DTSTART:20230312T070000
END:DAYLIGHT
BEGIN:STANDARD
TZOFFSETFROM:-0400
TZOFFSETTO:-0500
TZNAME:EST
DTSTART:20231105T060000
END:STANDARD
END:VTIMEZONE
BEGIN:VEVENT
DTSTART;TZID=America/Toronto:20221205T190000
DTEND;TZID=America/Toronto:20221205T210000
DTSTAMP:20260422T140541
CREATED:20221109T193310Z
LAST-MODIFIED:20221109T193310Z
UID:7339-1670266800-1670274000@stpeterstoronto.ca
SUMMARY:Advent Reflections facilitated by Fr. Thomas Rosica\, CSB
DESCRIPTION:Please join us this Advent for a three-part reflection series related to the birth of our Savior\, facilitated by Fr. Thomas Rosica\, CSB. Fr. Rosica is a noted Scripture scholar\, lecturer and author who regularly assists at St. Peter’s Parish. He was ordained a priest in 1986 and has served in varied ministries in Canada and abroad. \n♦December 5\, 2022\n “The world has welcomed a Savior”\nBiblical Reflections on the Infancy Narrative of Luke’s Gospel \n ♦December 6\, 2022\n“The birth of Jesus and the fulfillment of prophecy”\nBiblical Reflections on the Infancy Narrative of Matthew’s Gospel \n ♦December 7\, 2022\nThe Pregnant Season:\nA biblical spirituality for Advent through the lenses of the Holy Family \nAll are welcome! We look forward to seeing you there.
URL:https://stpeterstoronto.ca/main/events/advent-reflections-2022/2022-12-05/
LOCATION:St. Peter’s Church – Main\, 659 Markham Street\, Toronto\, Ontario\, M6G 2M1\, Canada
CATEGORIES:Workshop
GEO:43.6656351;-79.4125088
X-APPLE-STRUCTURED-LOCATION;VALUE=URI;X-ADDRESS=St. Peter’s Church – Main 659 Markham Street Toronto Ontario M6G 2M1 Canada;X-APPLE-RADIUS=500;X-TITLE=659 Markham Street:geo:-79.4125088,43.6656351
END:VEVENT
END:VCALENDAR