BEGIN:VCALENDAR
VERSION:2.0
PRODID:-//St. Peter&#039;s Church - ECPv6.15.20//NONSGML v1.0//EN
CALSCALE:GREGORIAN
METHOD:PUBLISH
X-ORIGINAL-URL:https://stpeterstoronto.ca/main
X-WR-CALDESC:Events for St. Peter&#039;s Church
REFRESH-INTERVAL;VALUE=DURATION:PT1H
X-Robots-Tag:noindex
X-PUBLISHED-TTL:PT1H
BEGIN:VTIMEZONE
TZID:America/Toronto
BEGIN:DAYLIGHT
TZOFFSETFROM:-0500
TZOFFSETTO:-0400
TZNAME:EDT
DTSTART:20220313T070000
END:DAYLIGHT
BEGIN:STANDARD
TZOFFSETFROM:-0400
TZOFFSETTO:-0500
TZNAME:EST
DTSTART:20221106T060000
END:STANDARD
BEGIN:DAYLIGHT
TZOFFSETFROM:-0500
TZOFFSETTO:-0400
TZNAME:EDT
DTSTART:20230312T070000
END:DAYLIGHT
BEGIN:STANDARD
TZOFFSETFROM:-0400
TZOFFSETTO:-0500
TZNAME:EST
DTSTART:20231105T060000
END:STANDARD
BEGIN:DAYLIGHT
TZOFFSETFROM:-0500
TZOFFSETTO:-0400
TZNAME:EDT
DTSTART:20240310T070000
END:DAYLIGHT
BEGIN:STANDARD
TZOFFSETFROM:-0400
TZOFFSETTO:-0500
TZNAME:EST
DTSTART:20241103T060000
END:STANDARD
END:VTIMEZONE
BEGIN:VEVENT
DTSTART;TZID=America/Toronto:20230927T190000
DTEND;TZID=America/Toronto:20230927T210000
DTSTAMP:20260419T224404
CREATED:20230906T162125Z
LAST-MODIFIED:20230906T162125Z
UID:8155-1695841200-1695848400@stpeterstoronto.ca
SUMMARY:Being the Person God Wants You to Be(come): Virtues\, Vices\, and the Image of God
DESCRIPTION:Over four talks\, Meghan Bowen will discuss Catholic teachings on how to live the moral life so that we can become more and more in the image of God. The talks will cover the topics of the moral life as part of our loving relationship with God (Sept. 27)\, how we learn to be virtuous and form our conscience (Oct. 4)\, what the virtues are and how we live them out (Oct. 11)\, and how our sins help us learn to be better (Oct. 18). All presentations will begin at 7PM in the auditorium. Meghan is a PhD Candidate at Regis College\, studying Moral Theology. She also holds an MA Theology from Saint Paul University (Ottawa). Her current research on is St. Augustine’s theology of marriage. \nMeghan Bowen is a PhD candidate at Regis College (Toronto). Her research examines Augustine’s theology of marriage within his historical context in hopes of bringing new insights and consideration to current theological discussions of marriage. Along with an MA Theology (Saint Paul University\, Ottawa)\, Meghan also holds an MA Ethnomusicology (Memorial University of Newfoundland\, St. John’s).
URL:https://stpeterstoronto.ca/main/events/being-the-person-god-wants-you-to-become-virtues-vices-and-the-image-of-god/2023-09-27/
LOCATION:St. Peter’s Church – Main\, 659 Markham Street\, Toronto\, Ontario\, M6G 2M1\, Canada
CATEGORIES:Workshop
GEO:43.6656351;-79.4125088
X-APPLE-STRUCTURED-LOCATION;VALUE=URI;X-ADDRESS=St. Peter’s Church – Main 659 Markham Street Toronto Ontario M6G 2M1 Canada;X-APPLE-RADIUS=500;X-TITLE=659 Markham Street:geo:-79.4125088,43.6656351
END:VEVENT
END:VCALENDAR