BEGIN:VCALENDAR
VERSION:2.0
PRODID:-//St. Peter&#039;s Church - ECPv6.15.20//NONSGML v1.0//EN
CALSCALE:GREGORIAN
METHOD:PUBLISH
X-WR-CALNAME:St. Peter&#039;s Church
X-ORIGINAL-URL:https://stpeterstoronto.ca/main
X-WR-CALDESC:Events for St. Peter&#039;s Church
REFRESH-INTERVAL;VALUE=DURATION:PT1H
X-Robots-Tag:noindex
X-PUBLISHED-TTL:PT1H
BEGIN:VTIMEZONE
TZID:America/Toronto
BEGIN:DAYLIGHT
TZOFFSETFROM:-0500
TZOFFSETTO:-0400
TZNAME:EDT
DTSTART:20240310T070000
END:DAYLIGHT
BEGIN:STANDARD
TZOFFSETFROM:-0400
TZOFFSETTO:-0500
TZNAME:EST
DTSTART:20241103T060000
END:STANDARD
BEGIN:DAYLIGHT
TZOFFSETFROM:-0500
TZOFFSETTO:-0400
TZNAME:EDT
DTSTART:20250309T070000
END:DAYLIGHT
BEGIN:STANDARD
TZOFFSETFROM:-0400
TZOFFSETTO:-0500
TZNAME:EST
DTSTART:20251102T060000
END:STANDARD
BEGIN:DAYLIGHT
TZOFFSETFROM:-0500
TZOFFSETTO:-0400
TZNAME:EDT
DTSTART:20260308T070000
END:DAYLIGHT
BEGIN:STANDARD
TZOFFSETFROM:-0400
TZOFFSETTO:-0500
TZNAME:EST
DTSTART:20261101T060000
END:STANDARD
END:VTIMEZONE
BEGIN:VEVENT
DTSTART;TZID=America/Toronto:20251216T183000
DTEND;TZID=America/Toronto:20251216T200000
DTSTAMP:20260419T213928
CREATED:20251121T165203Z
LAST-MODIFIED:20251121T165203Z
UID:21212-1765909800-1765915200@stpeterstoronto.ca
SUMMARY:Christmas Tree Decorating
DESCRIPTION:The parish is seeking enthusiastic volunteers to partake in the joyful task of adorning this year’s Christmas Tree. Make sure to save the date: Tuesday\, December 16th\, at St. Peter’s Church\, from 6:30 pm to 8:00 pm. We invite all eager volunteers to join the festivities at the church\, use the side door entrance get inside\, the entrance located near the archway. We look forward to celebrating with you on this special evening!   RSVP at: St. Peter’s Parish Office\, 416-534-4219.
URL:https://stpeterstoronto.ca/main/events/christmas-tree-decorating-2025/
LOCATION:St. Peter’s Church – Main\, 659 Markham Street\, Toronto\, Ontario\, M6G 2M1\, Canada
CATEGORIES:General News,Social
GEO:43.6656351;-79.4125088
X-APPLE-STRUCTURED-LOCATION;VALUE=URI;X-ADDRESS=St. Peter’s Church – Main 659 Markham Street Toronto Ontario M6G 2M1 Canada;X-APPLE-RADIUS=500;X-TITLE=659 Markham Street:geo:-79.4125088,43.6656351
END:VEVENT
BEGIN:VEVENT
DTSTART;TZID=America/Toronto:20251224T080000
DTEND;TZID=America/Toronto:20251224T170000
DTSTAMP:20260419T213928
CREATED:20251219T185811Z
LAST-MODIFIED:20251219T185811Z
UID:21247-1766563200-1766595600@stpeterstoronto.ca
SUMMARY:Parish Office Schedule
DESCRIPTION:The parish office will be closed on the following dates: \nChristmas Eve – Wednesday\, December 24\, 2025 – Closing at 12:00 pm\nChristmas Day – Thursday\, December 25\, 2025 – Closed\nBoxing Day – Friday\, December 26\, 2025 – Closed\n(Mass will be celebrated at 10 AM)\nNew Year’s Eve – Wednesday\, December 31\, 2025 – Closing at 12:00 pm\nNew Year’s Day – Thursday\, January 1\, 2026 – Closed
URL:https://stpeterstoronto.ca/main/events/office-closed-chrsitmas-new-year-2025/2025-12-24/
LOCATION:St. Peter’s Church – Main\, 659 Markham Street\, Toronto\, Ontario\, M6G 2M1\, Canada
CATEGORIES:General News
GEO:43.6656351;-79.4125088
X-APPLE-STRUCTURED-LOCATION;VALUE=URI;X-ADDRESS=St. Peter’s Church – Main 659 Markham Street Toronto Ontario M6G 2M1 Canada;X-APPLE-RADIUS=500;X-TITLE=659 Markham Street:geo:-79.4125088,43.6656351
END:VEVENT
BEGIN:VEVENT
DTSTART;TZID=America/Toronto:20251225T080000
DTEND;TZID=America/Toronto:20251225T170000
DTSTAMP:20260419T213928
CREATED:20251219T185811Z
LAST-MODIFIED:20251219T185811Z
UID:21248-1766649600-1766682000@stpeterstoronto.ca
SUMMARY:Parish Office Schedule
DESCRIPTION:The parish office will be closed on the following dates: \nChristmas Eve – Wednesday\, December 24\, 2025 – Closing at 12:00 pm\nChristmas Day – Thursday\, December 25\, 2025 – Closed\nBoxing Day – Friday\, December 26\, 2025 – Closed\n(Mass will be celebrated at 10 AM)\nNew Year’s Eve – Wednesday\, December 31\, 2025 – Closing at 12:00 pm\nNew Year’s Day – Thursday\, January 1\, 2026 – Closed
URL:https://stpeterstoronto.ca/main/events/office-closed-chrsitmas-new-year-2025/2025-12-25/
LOCATION:St. Peter’s Church – Main\, 659 Markham Street\, Toronto\, Ontario\, M6G 2M1\, Canada
CATEGORIES:General News
GEO:43.6656351;-79.4125088
X-APPLE-STRUCTURED-LOCATION;VALUE=URI;X-ADDRESS=St. Peter’s Church – Main 659 Markham Street Toronto Ontario M6G 2M1 Canada;X-APPLE-RADIUS=500;X-TITLE=659 Markham Street:geo:-79.4125088,43.6656351
END:VEVENT
BEGIN:VEVENT
DTSTART;TZID=America/Toronto:20251226T080000
DTEND;TZID=America/Toronto:20251226T170000
DTSTAMP:20260419T213928
CREATED:20251219T185811Z
LAST-MODIFIED:20251219T185811Z
UID:21249-1766736000-1766768400@stpeterstoronto.ca
SUMMARY:Parish Office Schedule
DESCRIPTION:The parish office will be closed on the following dates: \nChristmas Eve – Wednesday\, December 24\, 2025 – Closing at 12:00 pm\nChristmas Day – Thursday\, December 25\, 2025 – Closed\nBoxing Day – Friday\, December 26\, 2025 – Closed\n(Mass will be celebrated at 10 AM)\nNew Year’s Eve – Wednesday\, December 31\, 2025 – Closing at 12:00 pm\nNew Year’s Day – Thursday\, January 1\, 2026 – Closed
URL:https://stpeterstoronto.ca/main/events/office-closed-chrsitmas-new-year-2025/2025-12-26/
LOCATION:St. Peter’s Church – Main\, 659 Markham Street\, Toronto\, Ontario\, M6G 2M1\, Canada
CATEGORIES:General News
GEO:43.6656351;-79.4125088
X-APPLE-STRUCTURED-LOCATION;VALUE=URI;X-ADDRESS=St. Peter’s Church – Main 659 Markham Street Toronto Ontario M6G 2M1 Canada;X-APPLE-RADIUS=500;X-TITLE=659 Markham Street:geo:-79.4125088,43.6656351
END:VEVENT
BEGIN:VEVENT
DTSTART;TZID=America/Toronto:20251231T080000
DTEND;TZID=America/Toronto:20251231T170000
DTSTAMP:20260419T213928
CREATED:20251219T185811Z
LAST-MODIFIED:20251219T185811Z
UID:21250-1767168000-1767200400@stpeterstoronto.ca
SUMMARY:Parish Office Schedule
DESCRIPTION:The parish office will be closed on the following dates: \nChristmas Eve – Wednesday\, December 24\, 2025 – Closing at 12:00 pm\nChristmas Day – Thursday\, December 25\, 2025 – Closed\nBoxing Day – Friday\, December 26\, 2025 – Closed\n(Mass will be celebrated at 10 AM)\nNew Year’s Eve – Wednesday\, December 31\, 2025 – Closing at 12:00 pm\nNew Year’s Day – Thursday\, January 1\, 2026 – Closed
URL:https://stpeterstoronto.ca/main/events/office-closed-chrsitmas-new-year-2025/2025-12-31/
LOCATION:St. Peter’s Church – Main\, 659 Markham Street\, Toronto\, Ontario\, M6G 2M1\, Canada
CATEGORIES:General News
GEO:43.6656351;-79.4125088
X-APPLE-STRUCTURED-LOCATION;VALUE=URI;X-ADDRESS=St. Peter’s Church – Main 659 Markham Street Toronto Ontario M6G 2M1 Canada;X-APPLE-RADIUS=500;X-TITLE=659 Markham Street:geo:-79.4125088,43.6656351
END:VEVENT
END:VCALENDAR