BEGIN:VCALENDAR
VERSION:2.0
PRODID:-//St. Peter&#039;s Church - ECPv6.15.20//NONSGML v1.0//EN
CALSCALE:GREGORIAN
METHOD:PUBLISH
X-WR-CALNAME:St. Peter&#039;s Church
X-ORIGINAL-URL:https://stpeterstoronto.ca/main
X-WR-CALDESC:Events for St. Peter&#039;s Church
REFRESH-INTERVAL;VALUE=DURATION:PT1H
X-Robots-Tag:noindex
X-PUBLISHED-TTL:PT1H
BEGIN:VTIMEZONE
TZID:America/Toronto
BEGIN:DAYLIGHT
TZOFFSETFROM:-0500
TZOFFSETTO:-0400
TZNAME:EDT
DTSTART:20140309T070000
END:DAYLIGHT
BEGIN:STANDARD
TZOFFSETFROM:-0400
TZOFFSETTO:-0500
TZNAME:EST
DTSTART:20141102T060000
END:STANDARD
BEGIN:DAYLIGHT
TZOFFSETFROM:-0500
TZOFFSETTO:-0400
TZNAME:EDT
DTSTART:20150308T070000
END:DAYLIGHT
BEGIN:STANDARD
TZOFFSETFROM:-0400
TZOFFSETTO:-0500
TZNAME:EST
DTSTART:20151101T060000
END:STANDARD
BEGIN:DAYLIGHT
TZOFFSETFROM:-0500
TZOFFSETTO:-0400
TZNAME:EDT
DTSTART:20160313T070000
END:DAYLIGHT
BEGIN:STANDARD
TZOFFSETFROM:-0400
TZOFFSETTO:-0500
TZNAME:EST
DTSTART:20161106T060000
END:STANDARD
BEGIN:DAYLIGHT
TZOFFSETFROM:-0500
TZOFFSETTO:-0400
TZNAME:EDT
DTSTART:20170312T070000
END:DAYLIGHT
BEGIN:STANDARD
TZOFFSETFROM:-0400
TZOFFSETTO:-0500
TZNAME:EST
DTSTART:20171105T060000
END:STANDARD
BEGIN:DAYLIGHT
TZOFFSETFROM:-0500
TZOFFSETTO:-0400
TZNAME:EDT
DTSTART:20180311T070000
END:DAYLIGHT
BEGIN:STANDARD
TZOFFSETFROM:-0400
TZOFFSETTO:-0500
TZNAME:EST
DTSTART:20181104T060000
END:STANDARD
END:VTIMEZONE
BEGIN:VEVENT
DTSTART;TZID=America/Toronto:20170913T190000
DTEND;TZID=America/Toronto:20170913T210000
DTSTAMP:20260419T122058
CREATED:20170911T140036Z
LAST-MODIFIED:20170911T004546Z
UID:2462-1505329200-1505336400@stpeterstoronto.ca
SUMMARY:Fall Fair Meeting
DESCRIPTION:St. Peters Parish will be hosting this year’s FALL FAIR EVENT on Saturday October 14th and Sunday October 15th\, 2017. \nWe are having a meeting for anyone who would like to volunteer to help with this event. Past volunteers and new volunteers are encouraged to attend this meeting. The meeting will provide information about the tasks that will need to be completed and provide opportunity for the community to ask any questions and/or suggestions they may have regarding this year’s event. \nThe meeting will be held on Wednesday\, September 13\, 2017 at 7pm in the St. Peter’s church auditorium. If you are unable to attend and would like to volunteer feel free to contact the church office via email or phone to be added to the list. \nWe look forward to seeing as many people as possible to make this event a success. “Volunteers are the heart of the community”. \nFALL FAIR DONATIONS\nWe will be accepting this year’s Fall Fair donations starting Wednesday September 13th\, 2017\, please deliver your donations to the parish office\, located at 830 Bathurst Street.
URL:https://stpeterstoronto.ca/main/events/fall-fair-meeting/
LOCATION:St. Peter’s Church – Auditorium\, 659 Markham Street\, Toronto\, Ontario\, M6G 2M1\, Canada
CATEGORIES:Meeting
GEO:43.6656351;-79.4125088
X-APPLE-STRUCTURED-LOCATION;VALUE=URI;X-ADDRESS=St. Peter’s Church – Auditorium 659 Markham Street Toronto Ontario M6G 2M1 Canada;X-APPLE-RADIUS=500;X-TITLE=659 Markham Street:geo:-79.4125088,43.6656351
END:VEVENT
BEGIN:VEVENT
DTSTART;TZID=America/Toronto:20170513T130000
DTEND;TZID=America/Toronto:20170513T140000
DTSTAMP:20260419T122058
CREATED:20170510T142534Z
LAST-MODIFIED:20170503T222729Z
UID:2180-1494680400-1494684000@stpeterstoronto.ca
SUMMARY:Sick and Shut-in Ministry Meeting
DESCRIPTION:Meeting will take place on Saturday\, May 13\, at 1:00 PM in the Parish Centre.
URL:https://stpeterstoronto.ca/main/events/sick-and-shut-in-ministry-meeting/
LOCATION:St. Peter’s Church – Main\, 659 Markham Street\, Toronto\, Ontario\, M6G 2M1\, Canada
CATEGORIES:Meeting,Workshop
GEO:43.6656351;-79.4125088
X-APPLE-STRUCTURED-LOCATION;VALUE=URI;X-ADDRESS=St. Peter’s Church – Main 659 Markham Street Toronto Ontario M6G 2M1 Canada;X-APPLE-RADIUS=500;X-TITLE=659 Markham Street:geo:-79.4125088,43.6656351
END:VEVENT
BEGIN:VEVENT
DTSTART;TZID=America/Toronto:20170329T190000
DTEND;TZID=America/Toronto:20170329T210000
DTSTAMP:20260419T122058
CREATED:20170322T140058Z
LAST-MODIFIED:20170308T192213Z
UID:1964-1490814000-1490821200@stpeterstoronto.ca
SUMMARY:Movie Night Planning Meeting
DESCRIPTION:St. Peters Parish will be hosting four courtyard movie nights this coming summer. There will be two movies in July and two in August\, the dates have not yet been confirmed\, however\, they will remain on Saturday nights. \nWe are having a meeting for anyone who would like to volunteer to help with this event. Past volunteers and new volunteers are encouraged to attend this meeting. The meeting will cover volunteer logistics and next steps. \nThe meeting will be held on Wednesday\, March 29\, 2017\, at 7 pm\, in the St. Peter’s church auditorium.  If you are unable to attend and would like to volunteer feel free to contact myself via email or phone to be added to the list or to set up a meeting to talk. \nWe look forward to seeing as many people as possible to make this event a success.
URL:https://stpeterstoronto.ca/main/events/movie-night-planning-meeting/
LOCATION:St. Peter’s Church – Auditorium\, 659 Markham Street\, Toronto\, Ontario\, M6G 2M1\, Canada
CATEGORIES:Meeting
GEO:43.6656351;-79.4125088
X-APPLE-STRUCTURED-LOCATION;VALUE=URI;X-ADDRESS=St. Peter’s Church – Auditorium 659 Markham Street Toronto Ontario M6G 2M1 Canada;X-APPLE-RADIUS=500;X-TITLE=659 Markham Street:geo:-79.4125088,43.6656351
END:VEVENT
BEGIN:VEVENT
DTSTART;TZID=America/Toronto:20170328T190000
DTEND;TZID=America/Toronto:20170328T210000
DTSTAMP:20260419T122058
CREATED:20170321T140011Z
LAST-MODIFIED:20170308T192147Z
UID:1962-1490727600-1490734800@stpeterstoronto.ca
SUMMARY:Fall Fair Planning Meeting
DESCRIPTION:St. Peters Parish will be hosting this year’s FALL FAIR EVENT on Saturday October 14th and Sunday October 15th\, 2017. \nWe are having a meeting for anyone who would like to volunteer to help with this event. Past volunteers and new volunteers are encouraged to attend this meeting. The meeting will give volunteers information about the tasks that will need to be completed and provide opportunity for the community to ask any questions they may have. \nThe meeting will be held on Tuesday\, March 28\, 2017 at 7pm in the St. Peter’s church auditorium. If you are unable to attend and would like to volunteer feel free to contact the church office via email or phone to be added to the list. \nWe look forward to seeing as many people as possible to make this event a success.
URL:https://stpeterstoronto.ca/main/events/fall-fair-planning-meeting/
LOCATION:St. Peter’s Church – Auditorium\, 659 Markham Street\, Toronto\, Ontario\, M6G 2M1\, Canada
CATEGORIES:Meeting
GEO:43.6656351;-79.4125088
X-APPLE-STRUCTURED-LOCATION;VALUE=URI;X-ADDRESS=St. Peter’s Church – Auditorium 659 Markham Street Toronto Ontario M6G 2M1 Canada;X-APPLE-RADIUS=500;X-TITLE=659 Markham Street:geo:-79.4125088,43.6656351
END:VEVENT
BEGIN:VEVENT
DTSTART;TZID=America/Toronto:20170322T190000
DTEND;TZID=America/Toronto:20170322T210000
DTSTAMP:20260419T122058
CREATED:20170315T140034Z
LAST-MODIFIED:20170308T192051Z
UID:1966-1490209200-1490216400@stpeterstoronto.ca
SUMMARY:Totus Tuus Planning Meeting
DESCRIPTION:St. Peters Parish will be hosting the Totus Tuus camp this summer from July 23-28\, 2017. \nWe are having a meeting for anyone who would like to volunteer to help with this event.\nThe meeting will be held on Wednesday\, March 22\, 2017\, at 7pm\,  in the St. Peter’s church auditorium. \nIf you are unable to attend and would like to volunteer feel free to contact myself via email or phone to be added to the list or to set up a meeting to talk. \nWe look forward to seeing as many people as possible to make this event a success.
URL:https://stpeterstoronto.ca/main/events/totus-tuus-planning-meeting/
LOCATION:St. Peter’s Church – Auditorium\, 659 Markham Street\, Toronto\, Ontario\, M6G 2M1\, Canada
CATEGORIES:Meeting
GEO:43.6656351;-79.4125088
X-APPLE-STRUCTURED-LOCATION;VALUE=URI;X-ADDRESS=St. Peter’s Church – Auditorium 659 Markham Street Toronto Ontario M6G 2M1 Canada;X-APPLE-RADIUS=500;X-TITLE=659 Markham Street:geo:-79.4125088,43.6656351
END:VEVENT
BEGIN:VEVENT
DTSTART;TZID=America/Toronto:20170304T130000
DTEND;TZID=America/Toronto:20170304T140000
DTSTAMP:20260419T122058
CREATED:20170227T190031Z
LAST-MODIFIED:20170217T173553Z
UID:1862-1488632400-1488636000@stpeterstoronto.ca
SUMMARY:Sick or Shut-in Ministry Meeting
DESCRIPTION:Please note that the Sick or Shut-in Ministry Meeting will be held on Saturday\, March 4\, at 1:00 PM in the Centre.\n~~~~~~~~~~~~~~~~~~~~~~~~~~~~~~~~~~~~~~~~~~~~~~~~~~~~~~~~~~~~\n***Anyone who is sick or shut-in is welcome to notify the parish office at 416-534-4219 and wish a visit from a member of the pastoral ministry team***
URL:https://stpeterstoronto.ca/main/events/sick-or-shut-in-ministry-meeting/
LOCATION:The Centre\, 830 Bathurst Street\, Toronto\, Ontario\, M5R 3G1\, Canada
CATEGORIES:Meeting
GEO:43.6658993;-79.4116382
X-APPLE-STRUCTURED-LOCATION;VALUE=URI;X-ADDRESS=The Centre 830 Bathurst Street Toronto Ontario M5R 3G1 Canada;X-APPLE-RADIUS=500;X-TITLE=830 Bathurst Street:geo:-79.4116382,43.6658993
END:VEVENT
BEGIN:VEVENT
DTSTART;TZID=America/Toronto:20161218T121500
DTEND;TZID=America/Toronto:20161218T150000
DTSTAMP:20260419T122058
CREATED:20161214T190012Z
LAST-MODIFIED:20161117T222005Z
UID:1628-1482063300-1482073200@stpeterstoronto.ca
SUMMARY:Rehearsal for Christmas Pageant - On Sunday Dec.  18\, 2016
DESCRIPTION:Calling all young aspiring actors and actresses (ages 4 to 12)! If you would like to be part of the parish’s Christmas Pageant\, please attend a rehearsal after the 11:15 AM Mass on Sunday December 18 in the Church. \nThis year the Christmas Pageant will take place immediately before the parish’s 5:00 PM Christmas Eve Family Mass (December 24th).
URL:https://stpeterstoronto.ca/main/events/rehearsal-for-christmas-pageant-on-sunday-dec-18-2016/
LOCATION:St. Peter’s Church – Main\, 659 Markham Street\, Toronto\, Ontario\, M6G 2M1\, Canada
CATEGORIES:Meeting,Social
GEO:43.6656351;-79.4125088
X-APPLE-STRUCTURED-LOCATION;VALUE=URI;X-ADDRESS=St. Peter’s Church – Main 659 Markham Street Toronto Ontario M6G 2M1 Canada;X-APPLE-RADIUS=500;X-TITLE=659 Markham Street:geo:-79.4125088,43.6656351
END:VEVENT
BEGIN:VEVENT
DTSTART;TZID=America/Toronto:20161211T121500
DTEND;TZID=America/Toronto:20161211T150000
DTSTAMP:20260419T122058
CREATED:20161207T190018Z
LAST-MODIFIED:20161117T221801Z
UID:1625-1481458500-1481468400@stpeterstoronto.ca
SUMMARY:Rehearsal for Christmas Pageant - On Sundays of Dec. 11 & 18\, 2016
DESCRIPTION:Calling all young aspiring actors and actresses (ages 4 to 12)! If you would like to be part of the parish’s Christmas Pageant\, please attend a rehearsal after the 11:15 AM Mass on Sundays of December 11 and 18 in the Church. \nThis year the Christmas Pageant will take place immediately before the parish’s 5:00 PM Christmas Eve Family Mass (December 24th).
URL:https://stpeterstoronto.ca/main/events/rehearsal-for-christmas-pageant-on-sundays-of-dec-4-11-18-2016-2016-12-11/
LOCATION:St. Peter’s Church – Main\, 659 Markham Street\, Toronto\, Ontario\, M6G 2M1\, Canada
CATEGORIES:Meeting,Social
GEO:43.6656351;-79.4125088
X-APPLE-STRUCTURED-LOCATION;VALUE=URI;X-ADDRESS=St. Peter’s Church – Main 659 Markham Street Toronto Ontario M6G 2M1 Canada;X-APPLE-RADIUS=500;X-TITLE=659 Markham Street:geo:-79.4125088,43.6656351
END:VEVENT
BEGIN:VEVENT
DTSTART;TZID=America/Toronto:20160604T110000
DTEND;TZID=America/Toronto:20160604T120000
DTSTAMP:20260419T122058
CREATED:20160525T180054Z
LAST-MODIFIED:20160524T182314Z
UID:1146-1465038000-1465041600@stpeterstoronto.ca
SUMMARY:Volunteers Needed for Courtyard Movies!
DESCRIPTION:St. Peters Parish will be hosting three Courtyard Movie Nights this coming summer. There will be two movies in July and one in August.  Dates for the movie nights have not yet been confirmed but will be held on either a Friday or Saturday night. \nWe will be having a meeting for anyone who would like to volunteer to help with this event.  Past volunteers and new volunteers are encouraged to attend this meeting. The meeting will give you information about the tasks that will need to be completed and give you the opportunity to ask any questions that you may have. \nThe meeting will be held on Saturday\, June 4th\, 2016 from 11-12 at the St. Peter’s Center in the St. Paul’s classroom. \nIf you are unable to attend and would like to volunteer feel free to contact Alessya D’Anna via email or phone – 416-534-4219 x 212 to be added to the list or to set up a meeting to talk. \nWe look forward to seeing as many people as possible to make this event a success!
URL:https://stpeterstoronto.ca/main/events/volunteers-needed-for-courtyard-movies/
LOCATION:The Centre\, 830 Bathurst Street\, Toronto\, Ontario\, M5R 3G1\, Canada
CATEGORIES:Courtyard Movies,Meeting,Social
ORGANIZER;CN="Alessya D'Anna":MAILTO:youngadult-youthmin@stpeterstoronto.ca
GEO:43.6658993;-79.4116382
X-APPLE-STRUCTURED-LOCATION;VALUE=URI;X-ADDRESS=The Centre 830 Bathurst Street Toronto Ontario M5R 3G1 Canada;X-APPLE-RADIUS=500;X-TITLE=830 Bathurst Street:geo:-79.4116382,43.6658993
END:VEVENT
BEGIN:VEVENT
DTSTART;TZID=America/Toronto:20151205T091500
DTEND;TZID=America/Toronto:20151205T163000
DTSTAMP:20260419T122058
CREATED:20151116T193645Z
LAST-MODIFIED:20151110T194521Z
UID:583-1449306900-1449333000@stpeterstoronto.ca
SUMMARY:Vocation as a Religious Sister
DESCRIPTION:The Sisters Faithful Companions of Jesus invite interested single women aged 18-39 to join them on Saturday\, December 5 from 9:15 am – 4:30 pm for a time of prayer\, input\, reflection\, sharing and lunch at 298 Palmerston Avenue. To register please contact the parish office by November 30.
URL:https://stpeterstoronto.ca/main/events/vocation-as-a-religious-sister/
LOCATION:The Sisters Faithful Companions of Jesus\, 298 Palmerston Avenue\, Toronto\, Canada
CATEGORIES:Meeting
GEO:43.655753;-79.4088745
X-APPLE-STRUCTURED-LOCATION;VALUE=URI;X-ADDRESS=The Sisters Faithful Companions of Jesus 298 Palmerston Avenue Toronto Canada;X-APPLE-RADIUS=500;X-TITLE=298 Palmerston Avenue:geo:-79.4088745,43.655753
END:VEVENT
BEGIN:VEVENT
DTSTART;TZID=America/Toronto:20151027T190000
DTEND;TZID=America/Toronto:20151027T200000
DTSTAMP:20260419T122058
CREATED:20151024T105816Z
LAST-MODIFIED:20151020T155836Z
UID:529-1445972400-1445976000@stpeterstoronto.ca
SUMMARY:Confirmation Parent / Candidate Meeting - Opt #2
DESCRIPTION:Information meetings for those wishing to celebrate the Sacrament of Confirmation will take place on Saturday\, October 24th at 3 pm (Opt #1) and Tuesday\, October 27th at 7 pm (Opt #2) at the Parish Centre located at 830 Bathurst St. \nAdditional information\, schedules and registration forms can be found at religioused.stpeterstoronto.ca.   \nhe Archdiocese has changed the age of Confirmation to grade 7\, so this year students in both grades 7 and 8 will be prepared together. Students are no longer prepared in the school for this sacrament\, but in the parish that they attend regularly.
URL:https://stpeterstoronto.ca/main/events/confirmation-parent-candidate-meeting-opt-2/
LOCATION:The Centre\, 830 Bathurst Street\, Toronto\, Ontario\, M5R 3G1\, Canada
CATEGORIES:Meeting
GEO:43.6658993;-79.4116382
X-APPLE-STRUCTURED-LOCATION;VALUE=URI;X-ADDRESS=The Centre 830 Bathurst Street Toronto Ontario M5R 3G1 Canada;X-APPLE-RADIUS=500;X-TITLE=830 Bathurst Street:geo:-79.4116382,43.6658993
END:VEVENT
BEGIN:VEVENT
DTSTART;TZID=America/Toronto:20151024T150000
DTEND;TZID=America/Toronto:20151024T160000
DTSTAMP:20260419T122058
CREATED:20151020T155747Z
LAST-MODIFIED:20151020T155747Z
UID:528-1445698800-1445702400@stpeterstoronto.ca
SUMMARY:Confirmation Parent / Candidate Meeting - Opt #1
DESCRIPTION:Information meetings for those wishing to celebrate the Sacrament of Confirmation will take place on Saturday\, October 24th at 3 pm (Opt #1) and Tuesday\, October 27th at 7 pm (Opt #2) at the Parish Centre located at 830 Bathurst St. \nAdditional information\, schedules and registration forms can be found at religioused.stpeterstoronto.ca.   \nhe Archdiocese has changed the age of Confirmation to grade 7\, so this year students in both grades 7 and 8 will be prepared together. Students are no longer prepared in the school for this sacrament\, but in the parish that they attend regularly.
URL:https://stpeterstoronto.ca/main/events/confirmation-parent-candidate-meeting-opt-1/
LOCATION:The Centre\, 830 Bathurst Street\, Toronto\, Ontario\, M5R 3G1\, Canada
CATEGORIES:Meeting
GEO:43.6658993;-79.4116382
X-APPLE-STRUCTURED-LOCATION;VALUE=URI;X-ADDRESS=The Centre 830 Bathurst Street Toronto Ontario M5R 3G1 Canada;X-APPLE-RADIUS=500;X-TITLE=830 Bathurst Street:geo:-79.4116382,43.6658993
END:VEVENT
END:VCALENDAR