BEGIN:VCALENDAR
VERSION:2.0
PRODID:-//St. Peter&#039;s Church - ECPv6.15.20//NONSGML v1.0//EN
CALSCALE:GREGORIAN
METHOD:PUBLISH
X-WR-CALNAME:St. Peter&#039;s Church
X-ORIGINAL-URL:https://stpeterstoronto.ca/main
X-WR-CALDESC:Events for St. Peter&#039;s Church
REFRESH-INTERVAL;VALUE=DURATION:PT1H
X-Robots-Tag:noindex
X-PUBLISHED-TTL:PT1H
BEGIN:VTIMEZONE
TZID:America/Toronto
BEGIN:DAYLIGHT
TZOFFSETFROM:-0500
TZOFFSETTO:-0400
TZNAME:EDT
DTSTART:20140309T070000
END:DAYLIGHT
BEGIN:STANDARD
TZOFFSETFROM:-0400
TZOFFSETTO:-0500
TZNAME:EST
DTSTART:20141102T060000
END:STANDARD
BEGIN:DAYLIGHT
TZOFFSETFROM:-0500
TZOFFSETTO:-0400
TZNAME:EDT
DTSTART:20150308T070000
END:DAYLIGHT
BEGIN:STANDARD
TZOFFSETFROM:-0400
TZOFFSETTO:-0500
TZNAME:EST
DTSTART:20151101T060000
END:STANDARD
BEGIN:DAYLIGHT
TZOFFSETFROM:-0500
TZOFFSETTO:-0400
TZNAME:EDT
DTSTART:20160313T070000
END:DAYLIGHT
BEGIN:STANDARD
TZOFFSETFROM:-0400
TZOFFSETTO:-0500
TZNAME:EST
DTSTART:20161106T060000
END:STANDARD
END:VTIMEZONE
BEGIN:VEVENT
DTSTART;TZID=America/Toronto:20151027T190000
DTEND;TZID=America/Toronto:20151027T200000
DTSTAMP:20260419T135704
CREATED:20151024T105816Z
LAST-MODIFIED:20151020T155836Z
UID:529-1445972400-1445976000@stpeterstoronto.ca
SUMMARY:Confirmation Parent / Candidate Meeting - Opt #2
DESCRIPTION:Information meetings for those wishing to celebrate the Sacrament of Confirmation will take place on Saturday\, October 24th at 3 pm (Opt #1) and Tuesday\, October 27th at 7 pm (Opt #2) at the Parish Centre located at 830 Bathurst St. \nAdditional information\, schedules and registration forms can be found at religioused.stpeterstoronto.ca.   \nhe Archdiocese has changed the age of Confirmation to grade 7\, so this year students in both grades 7 and 8 will be prepared together. Students are no longer prepared in the school for this sacrament\, but in the parish that they attend regularly.
URL:https://stpeterstoronto.ca/main/events/confirmation-parent-candidate-meeting-opt-2/
LOCATION:The Centre\, 830 Bathurst Street\, Toronto\, Ontario\, M5R 3G1\, Canada
CATEGORIES:Meeting
GEO:43.6658993;-79.4116382
X-APPLE-STRUCTURED-LOCATION;VALUE=URI;X-ADDRESS=The Centre 830 Bathurst Street Toronto Ontario M5R 3G1 Canada;X-APPLE-RADIUS=500;X-TITLE=830 Bathurst Street:geo:-79.4116382,43.6658993
END:VEVENT
BEGIN:VEVENT
DTSTART;TZID=America/Toronto:20151024T150000
DTEND;TZID=America/Toronto:20151024T160000
DTSTAMP:20260419T135704
CREATED:20151020T155747Z
LAST-MODIFIED:20151020T155747Z
UID:528-1445698800-1445702400@stpeterstoronto.ca
SUMMARY:Confirmation Parent / Candidate Meeting - Opt #1
DESCRIPTION:Information meetings for those wishing to celebrate the Sacrament of Confirmation will take place on Saturday\, October 24th at 3 pm (Opt #1) and Tuesday\, October 27th at 7 pm (Opt #2) at the Parish Centre located at 830 Bathurst St. \nAdditional information\, schedules and registration forms can be found at religioused.stpeterstoronto.ca.   \nhe Archdiocese has changed the age of Confirmation to grade 7\, so this year students in both grades 7 and 8 will be prepared together. Students are no longer prepared in the school for this sacrament\, but in the parish that they attend regularly.
URL:https://stpeterstoronto.ca/main/events/confirmation-parent-candidate-meeting-opt-1/
LOCATION:The Centre\, 830 Bathurst Street\, Toronto\, Ontario\, M5R 3G1\, Canada
CATEGORIES:Meeting
GEO:43.6658993;-79.4116382
X-APPLE-STRUCTURED-LOCATION;VALUE=URI;X-ADDRESS=The Centre 830 Bathurst Street Toronto Ontario M5R 3G1 Canada;X-APPLE-RADIUS=500;X-TITLE=830 Bathurst Street:geo:-79.4116382,43.6658993
END:VEVENT
END:VCALENDAR