BEGIN:VCALENDAR
VERSION:2.0
PRODID:-//St. Peter&#039;s Church - ECPv6.15.20//NONSGML v1.0//EN
CALSCALE:GREGORIAN
METHOD:PUBLISH
X-WR-CALNAME:St. Peter&#039;s Church
X-ORIGINAL-URL:https://stpeterstoronto.ca/main
X-WR-CALDESC:Events for St. Peter&#039;s Church
REFRESH-INTERVAL;VALUE=DURATION:PT1H
X-Robots-Tag:noindex
X-PUBLISHED-TTL:PT1H
BEGIN:VTIMEZONE
TZID:America/Toronto
BEGIN:DAYLIGHT
TZOFFSETFROM:-0500
TZOFFSETTO:-0400
TZNAME:EDT
DTSTART:20240310T070000
END:DAYLIGHT
BEGIN:STANDARD
TZOFFSETFROM:-0400
TZOFFSETTO:-0500
TZNAME:EST
DTSTART:20241103T060000
END:STANDARD
BEGIN:DAYLIGHT
TZOFFSETFROM:-0500
TZOFFSETTO:-0400
TZNAME:EDT
DTSTART:20250309T070000
END:DAYLIGHT
BEGIN:STANDARD
TZOFFSETFROM:-0400
TZOFFSETTO:-0500
TZNAME:EST
DTSTART:20251102T060000
END:STANDARD
BEGIN:DAYLIGHT
TZOFFSETFROM:-0500
TZOFFSETTO:-0400
TZNAME:EDT
DTSTART:20260308T070000
END:DAYLIGHT
BEGIN:STANDARD
TZOFFSETFROM:-0400
TZOFFSETTO:-0500
TZNAME:EST
DTSTART:20261101T060000
END:STANDARD
END:VTIMEZONE
BEGIN:VEVENT
DTSTART;TZID=America/Toronto:20251120T193000
DTEND;TZID=America/Toronto:20251120T210000
DTSTAMP:20260421T075542
CREATED:20251105T173607Z
LAST-MODIFIED:20251105T173607Z
UID:21187-1763667000-1763672400@stpeterstoronto.ca
SUMMARY:Taizé Prayer with FCJ Sisters and Friends
DESCRIPTION:“But we have this treasure in jars of clay\, to show that the surpassing power belongs to God and not to us” (2 Cor 4:7). \nCome and rest in God on Thursday\, November 20 at 7.30 pm with a time of music\, scripture and quiet reflection. All are welcome.
URL:https://stpeterstoronto.ca/main/events/taize-prayer-251120/
LOCATION:St. Peter’s Church – Main\, 659 Markham Street\, Toronto\, Ontario\, M6G 2M1\, Canada
CATEGORIES:Prayer Group
GEO:43.6656351;-79.4125088
X-APPLE-STRUCTURED-LOCATION;VALUE=URI;X-ADDRESS=St. Peter’s Church – Main 659 Markham Street Toronto Ontario M6G 2M1 Canada;X-APPLE-RADIUS=500;X-TITLE=659 Markham Street:geo:-79.4125088,43.6656351
END:VEVENT
BEGIN:VEVENT
DTSTART;TZID=America/Toronto:20251127T190000
DTEND;TZID=America/Toronto:20251127T210000
DTSTAMP:20260421T075542
CREATED:20251105T173802Z
LAST-MODIFIED:20251105T173802Z
UID:21190-1764270000-1764277200@stpeterstoronto.ca
SUMMARY:The Source - Sisters of Life
DESCRIPTION:The Sisters of Life will be hosting “The Source” in the Church on Thursday\, November 27 at 7:00 PM. You are invited to come for an evening of Eucharistic Adoration (7:00 PM – 8:00 PM) followed by Christian fellowship in the Church Auditorium. Confession will also be available during Adoration.
URL:https://stpeterstoronto.ca/main/events/the-source-sisters-of-life-251127/
LOCATION:St. Peter’s Church – Main\, 659 Markham Street\, Toronto\, Ontario\, M6G 2M1\, Canada
CATEGORIES:Prayer Group
GEO:43.6656351;-79.4125088
X-APPLE-STRUCTURED-LOCATION;VALUE=URI;X-ADDRESS=St. Peter’s Church – Main 659 Markham Street Toronto Ontario M6G 2M1 Canada;X-APPLE-RADIUS=500;X-TITLE=659 Markham Street:geo:-79.4125088,43.6656351
END:VEVENT
END:VCALENDAR