BEGIN:VCALENDAR
VERSION:2.0
PRODID:-//St. Peter&#039;s Church - ECPv6.15.20//NONSGML v1.0//EN
CALSCALE:GREGORIAN
METHOD:PUBLISH
X-WR-CALNAME:St. Peter&#039;s Church
X-ORIGINAL-URL:https://stpeterstoronto.ca/main
X-WR-CALDESC:Events for St. Peter&#039;s Church
REFRESH-INTERVAL;VALUE=DURATION:PT1H
X-Robots-Tag:noindex
X-PUBLISHED-TTL:PT1H
BEGIN:VTIMEZONE
TZID:America/Toronto
BEGIN:DAYLIGHT
TZOFFSETFROM:-0500
TZOFFSETTO:-0400
TZNAME:EDT
DTSTART:20140309T070000
END:DAYLIGHT
BEGIN:STANDARD
TZOFFSETFROM:-0400
TZOFFSETTO:-0500
TZNAME:EST
DTSTART:20141102T060000
END:STANDARD
BEGIN:DAYLIGHT
TZOFFSETFROM:-0500
TZOFFSETTO:-0400
TZNAME:EDT
DTSTART:20150308T070000
END:DAYLIGHT
BEGIN:STANDARD
TZOFFSETFROM:-0400
TZOFFSETTO:-0500
TZNAME:EST
DTSTART:20151101T060000
END:STANDARD
BEGIN:DAYLIGHT
TZOFFSETFROM:-0500
TZOFFSETTO:-0400
TZNAME:EDT
DTSTART:20160313T070000
END:DAYLIGHT
BEGIN:STANDARD
TZOFFSETFROM:-0400
TZOFFSETTO:-0500
TZNAME:EST
DTSTART:20161106T060000
END:STANDARD
BEGIN:DAYLIGHT
TZOFFSETFROM:-0500
TZOFFSETTO:-0400
TZNAME:EDT
DTSTART:20170312T070000
END:DAYLIGHT
BEGIN:STANDARD
TZOFFSETFROM:-0400
TZOFFSETTO:-0500
TZNAME:EST
DTSTART:20171105T060000
END:STANDARD
END:VTIMEZONE
BEGIN:VEVENT
DTSTART;TZID=America/Toronto:20161208T131500
DTEND;TZID=America/Toronto:20161208T150000
DTSTAMP:20260421T101423
CREATED:20161205T150051Z
LAST-MODIFIED:20161123T174640Z
UID:1653-1481202900-1481209200@stpeterstoronto.ca
SUMMARY:Maturing Adults\, December 8\, 2016
DESCRIPTION:You are invited to a special gathering to celebrate the Advent-Christmas season on Thursday\, December 8 in the Centre auditorium from 1:15 – 3:00 p.m. There will be a prayer service followed by a social. To add to this celebration you are invited to contribute a “potluck” contribution to the refreshments. Plan to join us and bring a friend!
URL:https://stpeterstoronto.ca/main/events/maturing-adults-december-8-2016/
LOCATION:The Centre\, 830 Bathurst Street\, Toronto\, Ontario\, M5R 3G1\, Canada
CATEGORIES:Prayer Group,Social
GEO:43.6658993;-79.4116382
X-APPLE-STRUCTURED-LOCATION;VALUE=URI;X-ADDRESS=The Centre 830 Bathurst Street Toronto Ontario M5R 3G1 Canada;X-APPLE-RADIUS=500;X-TITLE=830 Bathurst Street:geo:-79.4116382,43.6658993
END:VEVENT
BEGIN:VEVENT
DTSTART;TZID=America/Toronto:20161119T190000
DTEND;TZID=America/Toronto:20161119T210000
DTSTAMP:20260421T101423
CREATED:20161017T180008Z
LAST-MODIFIED:20161006T203521Z
UID:1525-1479582000-1479589200@stpeterstoronto.ca
SUMMARY:The Source of Mercy
DESCRIPTION:
URL:https://stpeterstoronto.ca/main/events/the-source-of-mercy/
LOCATION:The Centre\, 830 Bathurst Street\, Toronto\, Ontario\, M5R 3G1\, Canada
CATEGORIES:Prayer Group,Social
GEO:43.6658993;-79.4116382
X-APPLE-STRUCTURED-LOCATION;VALUE=URI;X-ADDRESS=The Centre 830 Bathurst Street Toronto Ontario M5R 3G1 Canada;X-APPLE-RADIUS=500;X-TITLE=830 Bathurst Street:geo:-79.4116382,43.6658993
END:VEVENT
BEGIN:VEVENT
DTSTART;TZID=America/Toronto:20151205T123000
DTEND;TZID=America/Toronto:20151205T160000
DTSTAMP:20260421T101423
CREATED:20151113T193940Z
LAST-MODIFIED:20151110T194504Z
UID:586-1449318600-1449331200@stpeterstoronto.ca
SUMMARY:Advent Retreat: An Examination of God's Coming Presence in Your Life
DESCRIPTION:Saturday\, December 5\, 2015 — 12:30 p.m. to 4 p.m.\n St. Peter’s Parish Centre\n 830 Bathurst St\, Toronto \nFaith Connections\, Jesuits Volunteers Canada\, and St. Peter’s Young Adult Ministry invite young adults (18-39 years) for an afternoon retreat. We will reflect with other young adults about God’s presence\, while at the same time being mindful of our personal spiritual journey. Andrea Scapinello\, Coordinator of Jesuit Volunteers Canada\, will teach us discernment tools. Cost $15. Snacks provided. Register by November 30 — call the parish office or visit www.faithconnections.ca — a ministry of Fontbonne Ministries\, Sisters of St. Joseph\, Toronto.
URL:https://stpeterstoronto.ca/main/events/advent-retreat-an-examination-of-gods-coming-presence-in-your-life/
LOCATION:The Centre\, 830 Bathurst Street\, Toronto\, Ontario\, M5R 3G1\, Canada
CATEGORIES:Prayer Group,Social
GEO:43.6658993;-79.4116382
X-APPLE-STRUCTURED-LOCATION;VALUE=URI;X-ADDRESS=The Centre 830 Bathurst Street Toronto Ontario M5R 3G1 Canada;X-APPLE-RADIUS=500;X-TITLE=830 Bathurst Street:geo:-79.4116382,43.6658993
END:VEVENT
BEGIN:VEVENT
DTSTART;TZID=America/Toronto:20151101T190000
DTEND;TZID=America/Toronto:20151101T203000
DTSTAMP:20260421T101423
CREATED:20151015T192709Z
LAST-MODIFIED:20151013T192733Z
UID:502-1446404400-1446409800@stpeterstoronto.ca
SUMMARY:Lectio Divina with Cardinal Collins
DESCRIPTION:Since he arrived in Toronto as Archbishop\, Cardinal Collins has celebrated Lectio Divina once a month at the Cathedral. This year as the Cathedral is undergoing renovations he is visiting different churches in the Archdiocese for this monthly event. \nSt. Peter’s will be hosting Lectio Divina for the whole Archdiocese on Sunday\, November 1\, 2015 at 7:00 pm.  Cardinal Collins will preside at the Liturgy of the Hours for the Solemnity of All Saints and preach and reflect on the Gospel of Mark. The theme of his reflection will be The Greatest Commandment (Mark 12:18-40). \nLectio Divina (“divine\, or sacred\, reading”) is the name given to a spiritual tradition among Christians over the last two thousand years. This form of prayer involves three distinct stages: a) reading a short scripture passage b) reflecting on the passage and c) a short period of silence. We begin with Vespers (Evening Prayer) at 7 p.m.\, followed by Lectio Divina from 7:30 to 8:15 p.m. All are welcome to join Cardinal Collins for this special evening of prayer. \nThis event will be recorded to be broadcast on Canada’s Catholic Salt and Light network and there will be a special choir formed for the event. It would be great to have a full church to host this event that will be watched around the country. Please consider attending the 6:00 pm Mass and staying  Lectio Divina at 7:00 pm with Cardinal Collins.
URL:https://stpeterstoronto.ca/main/events/lectio-divina-with-cardinal-collins/
LOCATION:St. Peter’s Church – Main\, 659 Markham Street\, Toronto\, Ontario\, M6G 2M1\, Canada
CATEGORIES:Prayer Group,Social,Special Mass
GEO:43.6656351;-79.4125088
X-APPLE-STRUCTURED-LOCATION;VALUE=URI;X-ADDRESS=St. Peter’s Church – Main 659 Markham Street Toronto Ontario M6G 2M1 Canada;X-APPLE-RADIUS=500;X-TITLE=659 Markham Street:geo:-79.4125088,43.6656351
END:VEVENT
BEGIN:VEVENT
DTSTART;TZID=America/Toronto:20151007T190000
DTEND;TZID=America/Toronto:20151007T210000
DTSTAMP:20260421T101423
CREATED:20150922T210714Z
LAST-MODIFIED:20150922T200908Z
UID:456-1444244400-1444251600@stpeterstoronto.ca
SUMMARY:Praying the "Rosary"
DESCRIPTION:This year in honour of the feast of  Our Lady of the Rosary\, a rosary will be held on Wednesday\, October 7\, at 7 PM in the Chapel at the Centre. Refreshments to follow. Come pray with us.
URL:https://stpeterstoronto.ca/main/events/praying-the-rosary/
LOCATION:The Centre\, 830 Bathurst Street\, Toronto\, Ontario\, M5R 3G1\, Canada
CATEGORIES:Prayer Group
GEO:43.6658993;-79.4116382
X-APPLE-STRUCTURED-LOCATION;VALUE=URI;X-ADDRESS=The Centre 830 Bathurst Street Toronto Ontario M5R 3G1 Canada;X-APPLE-RADIUS=500;X-TITLE=830 Bathurst Street:geo:-79.4116382,43.6658993
END:VEVENT
BEGIN:VEVENT
DTSTART;TZID=America/Toronto:20150910T190000
DTEND;TZID=America/Toronto:20150910T210000
DTSTAMP:20260421T101423
CREATED:20150906T172132Z
LAST-MODIFIED:20150901T172448Z
UID:398-1441911600-1441918800@stpeterstoronto.ca
SUMMARY:Prayer and Life Workshop at the Centre
DESCRIPTION:Although the first session of prayer and Life Workshop began on last Thursday\, you may still join by attending this Thursday September 10th or even September 17th.  \nThese are a series of sessions that help you learn and deepen in the art of prayer. This learning has a very practical character\, like a workshop: by praying we learn to pray. Sessions include prayer methods such as prayerful reading\, visual prayer\, and contemplative prayer. The workshop helps us advance in the direction of integral reconciliation\, and presents the Gospel in a way so that we may profoundly embrace the peace and joy that we are meant to live. The workshop sessions are weekly and last about 2 hours each. Instruction is free and materials have a total cost of $15.  Contact the parish office at 416-534-4219.
URL:https://stpeterstoronto.ca/main/events/prayer-and-life-workshop-at-the-centre/
LOCATION:The Centre\, 830 Bathurst Street\, Toronto\, Ontario\, M5R 3G1\, Canada
CATEGORIES:Prayer Group
GEO:43.6658993;-79.4116382
X-APPLE-STRUCTURED-LOCATION;VALUE=URI;X-ADDRESS=The Centre 830 Bathurst Street Toronto Ontario M5R 3G1 Canada;X-APPLE-RADIUS=500;X-TITLE=830 Bathurst Street:geo:-79.4116382,43.6658993
END:VEVENT
BEGIN:VEVENT
DTSTART;TZID=America/Toronto:20150903T190000
DTEND;TZID=America/Toronto:20150903T210000
DTSTAMP:20260421T101423
CREATED:20150810T154530Z
LAST-MODIFIED:20150824T003935Z
UID:326-1441306800-1441314000@stpeterstoronto.ca
SUMMARY:Prayer and Life Workshop
DESCRIPTION:The Prayer and Life Workshops are a series of sessions that help you learn and deepen in the art of prayer.  The idea being that by praying we learn to pray! \nSessions include various prayer methods such as prayerful reading\, visual prayer\, and contemplative prayer. The Workshops help us advance in the direction of integral reconciliation\, and presents the Gospel in a way so that we may profoundly embrace the peace and joy that we are meant to live. \nThe Workshop sessions are held weekly at the Centre and last about 2 hours each. Instruction is free and materials have a total cost of $15. Opening session: Thursday September 3rd\, 2015 at 7:00 pm \nPre-registration is now open! Contact the parish office at 416-534-4219\, for more information.
URL:https://stpeterstoronto.ca/main/events/prayer-and-life-workshop/
LOCATION:The Centre\, 830 Bathurst Street\, Toronto\, Ontario\, M5R 3G1\, Canada
CATEGORIES:Prayer Group
GEO:43.6658993;-79.4116382
X-APPLE-STRUCTURED-LOCATION;VALUE=URI;X-ADDRESS=The Centre 830 Bathurst Street Toronto Ontario M5R 3G1 Canada;X-APPLE-RADIUS=500;X-TITLE=830 Bathurst Street:geo:-79.4116382,43.6658993
END:VEVENT
BEGIN:VEVENT
DTSTART;TZID=America/Toronto:20150821T070000
DTEND;TZID=America/Toronto:20150821T210000
DTSTAMP:20260421T101423
CREATED:20150803T021527Z
LAST-MODIFIED:20150824T003915Z
UID:335-1440140400-1440190800@stpeterstoronto.ca
SUMMARY:St. Peter’s YAG Planning Meeting
DESCRIPTION:The Parish is looking for new members and volunteer’s for our Young Adult Group. All young adults are welcome! \nOur group encourages young adults in the community between the ages of 18-39 to come together in social\, religious\, and recreational events. \nOn August 21st\, 2015 at 7pm at the Centre\, St. Peter’s will be having a meeting to welcome new young adults who wish to register with the group. All the current young adults registered with the group are invited to join us that night in welcoming new members and help plan upcoming events and socials. Feel free to join us! \nIn case you can’t make it this time\, here are some ways to get connected with us: \n\nCome out to one of St. Peter’s Young Adults Group events!\nVisit us on Facebook!\nJoin our mailing list and meet-up group at http://www.meetup.com/St-Peter-Young-Adults\nTo learn more about our Young Adult Group visit our webpage!
URL:https://stpeterstoronto.ca/main/events/young-adult-event/
LOCATION:The Centre\, 830 Bathurst Street\, Toronto\, Ontario\, M5R 3G1\, Canada
CATEGORIES:Prayer Group,Social
GEO:43.6658993;-79.4116382
X-APPLE-STRUCTURED-LOCATION;VALUE=URI;X-ADDRESS=The Centre 830 Bathurst Street Toronto Ontario M5R 3G1 Canada;X-APPLE-RADIUS=500;X-TITLE=830 Bathurst Street:geo:-79.4116382,43.6658993
END:VEVENT
END:VCALENDAR