BEGIN:VCALENDAR
VERSION:2.0
PRODID:-//St. Peter&#039;s Church - ECPv6.15.20//NONSGML v1.0//EN
CALSCALE:GREGORIAN
METHOD:PUBLISH
X-WR-CALNAME:St. Peter&#039;s Church
X-ORIGINAL-URL:https://stpeterstoronto.ca/main
X-WR-CALDESC:Events for St. Peter&#039;s Church
REFRESH-INTERVAL;VALUE=DURATION:PT1H
X-Robots-Tag:noindex
X-PUBLISHED-TTL:PT1H
BEGIN:VTIMEZONE
TZID:America/Toronto
BEGIN:DAYLIGHT
TZOFFSETFROM:-0500
TZOFFSETTO:-0400
TZNAME:EDT
DTSTART:20250309T070000
END:DAYLIGHT
BEGIN:STANDARD
TZOFFSETFROM:-0400
TZOFFSETTO:-0500
TZNAME:EST
DTSTART:20251102T060000
END:STANDARD
BEGIN:DAYLIGHT
TZOFFSETFROM:-0500
TZOFFSETTO:-0400
TZNAME:EDT
DTSTART:20260308T070000
END:DAYLIGHT
BEGIN:STANDARD
TZOFFSETFROM:-0400
TZOFFSETTO:-0500
TZNAME:EST
DTSTART:20261101T060000
END:STANDARD
BEGIN:DAYLIGHT
TZOFFSETFROM:-0500
TZOFFSETTO:-0400
TZNAME:EDT
DTSTART:20270314T070000
END:DAYLIGHT
BEGIN:STANDARD
TZOFFSETFROM:-0400
TZOFFSETTO:-0500
TZNAME:EST
DTSTART:20271107T060000
END:STANDARD
END:VTIMEZONE
BEGIN:VEVENT
DTSTART;TZID=America/Toronto:20260314T143000
DTEND;TZID=America/Toronto:20260314T163000
DTSTAMP:20260419T191511
CREATED:20260211T170051Z
LAST-MODIFIED:20260211T170051Z
UID:21354-1773498600-1773505800@stpeterstoronto.ca
SUMMARY:2026 Lenten Series: The Life and Spirituality of the Saints
DESCRIPTION:The season of Lent invites Christians to conversion and the renewal of their relationship with the Lord. It is a time when we are called to return to the path of holiness and to rediscover the spiritual practices that nourish our soul. In this series on the Pivotal Players from Word on Fire Ministries\, we present the stories of saints whose struggles and triumphs have inspired generations of Christians in their life of faith. These saints show us that there are many pathways to a deeper life with Christ the Lord and that God continues to invite everyone to make the journey. \nFacilitated by Sister Carla Thomas\, O.P.\, Ph.D.\n(of the Dominican Sisters of St. Catherine of Siena). \nSaturdays from 2:30 pm to 4:30 pm\, in the Parish Auditorium \nFebruary 28th – Saint Francis of Assisi\nMarch 14th – Saint Augustine of Hippo\nMarch 21st – Saint Benedict of Nursia\nMarch 28th – Saint Therese of Lisieux\, Saint Katharine Drexel\,\nEdith Stein (Saint Teresa Benedicta of the Cross)\, and Mother Teresa of Calcutta \nParish Auditorium entrance is located under the archway\n~Please note the auditorium is NOT wheelchair accessible~
URL:https://stpeterstoronto.ca/main/events/2026-lenten-series-the-life-and-spirituality-of-the-saints/2026-03-14/
LOCATION:St. Peter’s Church – Main\, 659 Markham Street\, Toronto\, Ontario\, M6G 2M1\, Canada
CATEGORIES:Workshop
GEO:43.6656351;-79.4125088
X-APPLE-STRUCTURED-LOCATION;VALUE=URI;X-ADDRESS=St. Peter’s Church – Main 659 Markham Street Toronto Ontario M6G 2M1 Canada;X-APPLE-RADIUS=500;X-TITLE=659 Markham Street:geo:-79.4125088,43.6656351
END:VEVENT
BEGIN:VEVENT
DTSTART;TZID=America/Toronto:20260321T143000
DTEND;TZID=America/Toronto:20260321T163000
DTSTAMP:20260419T191511
CREATED:20260211T170051Z
LAST-MODIFIED:20260211T170051Z
UID:21355-1774103400-1774110600@stpeterstoronto.ca
SUMMARY:2026 Lenten Series: The Life and Spirituality of the Saints
DESCRIPTION:The season of Lent invites Christians to conversion and the renewal of their relationship with the Lord. It is a time when we are called to return to the path of holiness and to rediscover the spiritual practices that nourish our soul. In this series on the Pivotal Players from Word on Fire Ministries\, we present the stories of saints whose struggles and triumphs have inspired generations of Christians in their life of faith. These saints show us that there are many pathways to a deeper life with Christ the Lord and that God continues to invite everyone to make the journey. \nFacilitated by Sister Carla Thomas\, O.P.\, Ph.D.\n(of the Dominican Sisters of St. Catherine of Siena). \nSaturdays from 2:30 pm to 4:30 pm\, in the Parish Auditorium \nFebruary 28th – Saint Francis of Assisi\nMarch 14th – Saint Augustine of Hippo\nMarch 21st – Saint Benedict of Nursia\nMarch 28th – Saint Therese of Lisieux\, Saint Katharine Drexel\,\nEdith Stein (Saint Teresa Benedicta of the Cross)\, and Mother Teresa of Calcutta \nParish Auditorium entrance is located under the archway\n~Please note the auditorium is NOT wheelchair accessible~
URL:https://stpeterstoronto.ca/main/events/2026-lenten-series-the-life-and-spirituality-of-the-saints/2026-03-21/
LOCATION:St. Peter’s Church – Main\, 659 Markham Street\, Toronto\, Ontario\, M6G 2M1\, Canada
CATEGORIES:Workshop
GEO:43.6656351;-79.4125088
X-APPLE-STRUCTURED-LOCATION;VALUE=URI;X-ADDRESS=St. Peter’s Church – Main 659 Markham Street Toronto Ontario M6G 2M1 Canada;X-APPLE-RADIUS=500;X-TITLE=659 Markham Street:geo:-79.4125088,43.6656351
END:VEVENT
BEGIN:VEVENT
DTSTART;TZID=America/Toronto:20260328T143000
DTEND;TZID=America/Toronto:20260328T163000
DTSTAMP:20260419T191511
CREATED:20260211T170051Z
LAST-MODIFIED:20260211T170051Z
UID:21356-1774708200-1774715400@stpeterstoronto.ca
SUMMARY:2026 Lenten Series: The Life and Spirituality of the Saints
DESCRIPTION:The season of Lent invites Christians to conversion and the renewal of their relationship with the Lord. It is a time when we are called to return to the path of holiness and to rediscover the spiritual practices that nourish our soul. In this series on the Pivotal Players from Word on Fire Ministries\, we present the stories of saints whose struggles and triumphs have inspired generations of Christians in their life of faith. These saints show us that there are many pathways to a deeper life with Christ the Lord and that God continues to invite everyone to make the journey. \nFacilitated by Sister Carla Thomas\, O.P.\, Ph.D.\n(of the Dominican Sisters of St. Catherine of Siena). \nSaturdays from 2:30 pm to 4:30 pm\, in the Parish Auditorium \nFebruary 28th – Saint Francis of Assisi\nMarch 14th – Saint Augustine of Hippo\nMarch 21st – Saint Benedict of Nursia\nMarch 28th – Saint Therese of Lisieux\, Saint Katharine Drexel\,\nEdith Stein (Saint Teresa Benedicta of the Cross)\, and Mother Teresa of Calcutta \nParish Auditorium entrance is located under the archway\n~Please note the auditorium is NOT wheelchair accessible~
URL:https://stpeterstoronto.ca/main/events/2026-lenten-series-the-life-and-spirituality-of-the-saints/2026-03-28/
LOCATION:St. Peter’s Church – Main\, 659 Markham Street\, Toronto\, Ontario\, M6G 2M1\, Canada
CATEGORIES:Workshop
GEO:43.6656351;-79.4125088
X-APPLE-STRUCTURED-LOCATION;VALUE=URI;X-ADDRESS=St. Peter’s Church – Main 659 Markham Street Toronto Ontario M6G 2M1 Canada;X-APPLE-RADIUS=500;X-TITLE=659 Markham Street:geo:-79.4125088,43.6656351
END:VEVENT
END:VCALENDAR