BEGIN:VCALENDAR
VERSION:2.0
PRODID:-//St. Peter&#039;s Church - ECPv6.15.20//NONSGML v1.0//EN
CALSCALE:GREGORIAN
METHOD:PUBLISH
X-WR-CALNAME:St. Peter&#039;s Church
X-ORIGINAL-URL:https://stpeterstoronto.ca/main
X-WR-CALDESC:Events for St. Peter&#039;s Church
REFRESH-INTERVAL;VALUE=DURATION:PT1H
X-Robots-Tag:noindex
X-PUBLISHED-TTL:PT1H
BEGIN:VTIMEZONE
TZID:America/Toronto
BEGIN:DAYLIGHT
TZOFFSETFROM:-0500
TZOFFSETTO:-0400
TZNAME:EDT
DTSTART:20220313T070000
END:DAYLIGHT
BEGIN:STANDARD
TZOFFSETFROM:-0400
TZOFFSETTO:-0500
TZNAME:EST
DTSTART:20221106T060000
END:STANDARD
BEGIN:DAYLIGHT
TZOFFSETFROM:-0500
TZOFFSETTO:-0400
TZNAME:EDT
DTSTART:20230312T070000
END:DAYLIGHT
BEGIN:STANDARD
TZOFFSETFROM:-0400
TZOFFSETTO:-0500
TZNAME:EST
DTSTART:20231105T060000
END:STANDARD
BEGIN:DAYLIGHT
TZOFFSETFROM:-0500
TZOFFSETTO:-0400
TZNAME:EDT
DTSTART:20240310T070000
END:DAYLIGHT
BEGIN:STANDARD
TZOFFSETFROM:-0400
TZOFFSETTO:-0500
TZNAME:EST
DTSTART:20241103T060000
END:STANDARD
END:VTIMEZONE
BEGIN:VEVENT
DTSTART;TZID=America/Toronto:20230330T120000
DTEND;TZID=America/Toronto:20230330T210000
DTSTAMP:20260422T075432
CREATED:20230215T181216Z
LAST-MODIFIED:20230308T193943Z
UID:7616-1680177600-1680210000@stpeterstoronto.ca
SUMMARY:Lenten Reconciliation Services
DESCRIPTION:Lenten Reconciliation Services will take place: \n\nEvery Saturday from 3:45 p.m. to 4:30 p.m. or by appointment\nThursday\, March 30 – Parish Day of Confessions – 12 noon – 9 pm\nGood Friday\, April 7\, following the 3:00 p.m. Good Friday Service.
URL:https://stpeterstoronto.ca/main/events/lenten-reconciliation-services-2023/2023-03-30/
LOCATION:St. Peter’s Church – Main\, 659 Markham Street\, Toronto\, Ontario\, M6G 2M1\, Canada
CATEGORIES:Special Mass
GEO:43.6656351;-79.4125088
X-APPLE-STRUCTURED-LOCATION;VALUE=URI;X-ADDRESS=St. Peter’s Church – Main 659 Markham Street Toronto Ontario M6G 2M1 Canada;X-APPLE-RADIUS=500;X-TITLE=659 Markham Street:geo:-79.4125088,43.6656351
END:VEVENT
END:VCALENDAR