BEGIN:VCALENDAR
VERSION:2.0
PRODID:-//St. Peter&#039;s Church - ECPv6.15.20//NONSGML v1.0//EN
CALSCALE:GREGORIAN
METHOD:PUBLISH
X-ORIGINAL-URL:https://stpeterstoronto.ca/main
X-WR-CALDESC:Events for St. Peter&#039;s Church
REFRESH-INTERVAL;VALUE=DURATION:PT1H
X-Robots-Tag:noindex
X-PUBLISHED-TTL:PT1H
BEGIN:VTIMEZONE
TZID:America/Toronto
BEGIN:DAYLIGHT
TZOFFSETFROM:-0500
TZOFFSETTO:-0400
TZNAME:EDT
DTSTART:20190310T070000
END:DAYLIGHT
BEGIN:STANDARD
TZOFFSETFROM:-0400
TZOFFSETTO:-0500
TZNAME:EST
DTSTART:20191103T060000
END:STANDARD
BEGIN:DAYLIGHT
TZOFFSETFROM:-0500
TZOFFSETTO:-0400
TZNAME:EDT
DTSTART:20200308T070000
END:DAYLIGHT
BEGIN:STANDARD
TZOFFSETFROM:-0400
TZOFFSETTO:-0500
TZNAME:EST
DTSTART:20201101T060000
END:STANDARD
BEGIN:DAYLIGHT
TZOFFSETFROM:-0500
TZOFFSETTO:-0400
TZNAME:EDT
DTSTART:20210314T070000
END:DAYLIGHT
BEGIN:STANDARD
TZOFFSETFROM:-0400
TZOFFSETTO:-0500
TZNAME:EST
DTSTART:20211107T060000
END:STANDARD
END:VTIMEZONE
BEGIN:VEVENT
DTSTART;TZID=America/Toronto:20200316T190000
DTEND;TZID=America/Toronto:20200316T210000
DTSTAMP:20260420T232916
CREATED:20200302T150032Z
LAST-MODIFIED:20200313T205054Z
UID:5336-1584385200-1584392400@stpeterstoronto.ca
SUMMARY:CANCELLED - Lenten Retreat on Forgiveness
DESCRIPTION:Parish Lenten Retreat Cancelled \nFather Eric Andrews\, csp\, the president of the Paulists Fathers in New York has asked all Paulists priests to cancel their travels and planned missions for the time being. For that reason\, Father Frank Desiderio will not be here to give our parish’s Lenten retreat this year. The retreat that had been scheduled for this Monday\, March 16th and Tuesday\, March 17th \, 2020 is now cancelled. For those interested\, copies of his book\, Can you Let Go of a Grudge? Learn to Forgive and Get on With Your Life can be purchased at the parish office. \nPlease mark your calendars to attend our Parish Lenten retreat on forgiveness. Fr. Frank Desiderio\, csp\, will be preaching on the weekend of March 14 and 15 and speaking on the theme of forgiveness on Monday and Tuesday\, March 16 & 17 at 7:00 PM in the Church. All are welcome! 
URL:https://stpeterstoronto.ca/main/events/lenten-retreat-on-forgiveness/2020-03-16/
LOCATION:St. Peter’s Church – Main\, 659 Markham Street\, Toronto\, Ontario\, M6G 2M1\, Canada
CATEGORIES:Workshop
GEO:43.6656351;-79.4125088
X-APPLE-STRUCTURED-LOCATION;VALUE=URI;X-ADDRESS=St. Peter’s Church – Main 659 Markham Street Toronto Ontario M6G 2M1 Canada;X-APPLE-RADIUS=500;X-TITLE=659 Markham Street:geo:-79.4125088,43.6656351
END:VEVENT
END:VCALENDAR