BEGIN:VCALENDAR
VERSION:2.0
PRODID:-//St. Peter&#039;s Church - ECPv6.15.20//NONSGML v1.0//EN
CALSCALE:GREGORIAN
METHOD:PUBLISH
X-WR-CALNAME:St. Peter&#039;s Church
X-ORIGINAL-URL:https://stpeterstoronto.ca/main
X-WR-CALDESC:Events for St. Peter&#039;s Church
REFRESH-INTERVAL;VALUE=DURATION:PT1H
X-Robots-Tag:noindex
X-PUBLISHED-TTL:PT1H
BEGIN:VTIMEZONE
TZID:America/Toronto
BEGIN:DAYLIGHT
TZOFFSETFROM:-0500
TZOFFSETTO:-0400
TZNAME:EDT
DTSTART:20200308T070000
END:DAYLIGHT
BEGIN:STANDARD
TZOFFSETFROM:-0400
TZOFFSETTO:-0500
TZNAME:EST
DTSTART:20201101T060000
END:STANDARD
BEGIN:DAYLIGHT
TZOFFSETFROM:-0500
TZOFFSETTO:-0400
TZNAME:EDT
DTSTART:20210314T070000
END:DAYLIGHT
BEGIN:STANDARD
TZOFFSETFROM:-0400
TZOFFSETTO:-0500
TZNAME:EST
DTSTART:20211107T060000
END:STANDARD
BEGIN:DAYLIGHT
TZOFFSETFROM:-0500
TZOFFSETTO:-0400
TZNAME:EDT
DTSTART:20220313T070000
END:DAYLIGHT
BEGIN:STANDARD
TZOFFSETFROM:-0400
TZOFFSETTO:-0500
TZNAME:EST
DTSTART:20221106T060000
END:STANDARD
BEGIN:DAYLIGHT
TZOFFSETFROM:-0500
TZOFFSETTO:-0400
TZNAME:EDT
DTSTART:20230312T070000
END:DAYLIGHT
BEGIN:STANDARD
TZOFFSETFROM:-0400
TZOFFSETTO:-0500
TZNAME:EST
DTSTART:20231105T060000
END:STANDARD
END:VTIMEZONE
BEGIN:VEVENT
DTSTART;TZID=America/Toronto:20211212T170000
DTEND;TZID=America/Toronto:20211212T180000
DTSTAMP:20260424T231029
CREATED:20211201T204536Z
LAST-MODIFIED:20211201T204536Z
UID:6409-1639328400-1639332000@stpeterstoronto.ca
SUMMARY:Solemn Sung Vespers for Gaudete
DESCRIPTION:On Sunday\, December 12\, the parish will celebrate Solemn Sung Vespers for Gaudete Sunday at 5:00 PM in the Church. Please come and pray with us.
URL:https://stpeterstoronto.ca/main/events/solemn-sung-vespers-for-gaudete/
LOCATION:St. Peter’s Church – Main\, 659 Markham Street\, Toronto\, Ontario\, M6G 2M1\, Canada
CATEGORIES:Special Mass
GEO:43.6656351;-79.4125088
X-APPLE-STRUCTURED-LOCATION;VALUE=URI;X-ADDRESS=St. Peter’s Church – Main 659 Markham Street Toronto Ontario M6G 2M1 Canada;X-APPLE-RADIUS=500;X-TITLE=659 Markham Street:geo:-79.4125088,43.6656351
END:VEVENT
BEGIN:VEVENT
DTSTART;TZID=America/Toronto:20211218T100000
DTEND;TZID=America/Toronto:20211218T160000
DTSTAMP:20260424T231029
CREATED:20211117T194941Z
LAST-MODIFIED:20211201T202445Z
UID:6374-1639821600-1639843200@stpeterstoronto.ca
SUMMARY:Advent Confessions
DESCRIPTION:Advent confessions will be held in the Church on Saturday\, December 18\, from 10:00 am to 4:00 pm. Please take part in this spiritual healing as we prepare to celebrate the birth of Christ.  For confession times in other parishes throughout the week of Advent confessions (Dec. 12 to 18th) please visit www.archtoronto.org/confessions
URL:https://stpeterstoronto.ca/main/events/advent-confessions-2021/
LOCATION:St. Peter’s Church – Main\, 659 Markham Street\, Toronto\, Ontario\, M6G 2M1\, Canada
CATEGORIES:Special Mass
GEO:43.6656351;-79.4125088
X-APPLE-STRUCTURED-LOCATION;VALUE=URI;X-ADDRESS=St. Peter’s Church – Main 659 Markham Street Toronto Ontario M6G 2M1 Canada;X-APPLE-RADIUS=500;X-TITLE=659 Markham Street:geo:-79.4125088,43.6656351
END:VEVENT
BEGIN:VEVENT
DTSTART;VALUE=DATE:20211224
DTEND;VALUE=DATE:20211226
DTSTAMP:20260424T231029
CREATED:20211125T140028Z
LAST-MODIFIED:20211124T181455Z
UID:6394-1640311200-1640397599@stpeterstoronto.ca
SUMMARY:Christmas Eve Mass Schedule
DESCRIPTION:Christmas Eve – December 24 ~ 5:00 pm Family Mass;  8:00 pm Mass;  12:00 Midnight Mass (No 8:00 am Mass)  \nChristmas Day – December 25 ~ 9:00 am Mass;  11:15 am Mass (No 5:00 pm Mass)  \nNew Year’s Eve – December 31 ~ 5:00 pm Mass (No 8:00 am Mass)  \nNew Year’s Day – January 1 ~ 9:00 am Mass;  11:15 am Mass (No 5:00 pm Mass) \nCovid-19 Restrictions:  Limited Seating:  First Come; First Seated.  Masks Must Be Worn At All Times.
URL:https://stpeterstoronto.ca/main/events/christmas-eve-mass-schedule-2021/
LOCATION:St. Peter’s Church – Main\, 659 Markham Street\, Toronto\, Ontario\, M6G 2M1\, Canada
CATEGORIES:Special Mass
GEO:43.6656351;-79.4125088
X-APPLE-STRUCTURED-LOCATION;VALUE=URI;X-ADDRESS=St. Peter’s Church – Main 659 Markham Street Toronto Ontario M6G 2M1 Canada;X-APPLE-RADIUS=500;X-TITLE=659 Markham Street:geo:-79.4125088,43.6656351
END:VEVENT
BEGIN:VEVENT
DTSTART;VALUE=DATE:20211225
DTEND;VALUE=DATE:20211227
DTSTAMP:20260424T231029
CREATED:20211125T140047Z
LAST-MODIFIED:20211124T181322Z
UID:6396-1640397600-1640483999@stpeterstoronto.ca
SUMMARY:Christmas Day Mass Schedule
DESCRIPTION:Christmas Day – December 25 ~ 9:00 am Mass;  11:15 am Mass (No 5:00 pm Mass)  \nNew Year’s Eve – December 31 ~ 5:00 pm Mass (No 8:00 am Mass)  \nNew Year’s Day – January 1 ~ 9:00 am Mass;  11:15 am Mass (No 5:00 pm Mass) \nCovid-19 Restrictions:  Limited Seating:  First Come; First Seated.  Masks Must Be Worn At All Times.
URL:https://stpeterstoronto.ca/main/events/christmas-day-mass-schedule-2021/
LOCATION:St. Peter’s Church – Main\, 659 Markham Street\, Toronto\, Ontario\, M6G 2M1\, Canada
CATEGORIES:Special Mass
GEO:43.6656351;-79.4125088
X-APPLE-STRUCTURED-LOCATION;VALUE=URI;X-ADDRESS=St. Peter’s Church – Main 659 Markham Street Toronto Ontario M6G 2M1 Canada;X-APPLE-RADIUS=500;X-TITLE=659 Markham Street:geo:-79.4125088,43.6656351
END:VEVENT
BEGIN:VEVENT
DTSTART;VALUE=DATE:20211231
DTEND;VALUE=DATE:20220102
DTSTAMP:20260424T231029
CREATED:20211125T140013Z
LAST-MODIFIED:20211124T181152Z
UID:6398-1640916000-1641002399@stpeterstoronto.ca
SUMMARY:New Year's Eve Mass Schedule
DESCRIPTION:New Year’s Eve – December 31 ~ 5:00 pm Mass (No 8:00 am Mass)  \nNew Year’s Day – January 1 ~ 9:00 am Mass;  11:15 am Mass (No 5:00 pm Mass) \nCovid-19 Restrictions:  Limited Seating:  First Come; First Seated.  Masks Must Be Worn At All Times.
URL:https://stpeterstoronto.ca/main/events/new-years-eve-mass-schedule-2021/
LOCATION:St. Peter’s Church – Main\, 659 Markham Street\, Toronto\, Ontario\, M6G 2M1\, Canada
CATEGORIES:Special Mass
GEO:43.6656351;-79.4125088
X-APPLE-STRUCTURED-LOCATION;VALUE=URI;X-ADDRESS=St. Peter’s Church – Main 659 Markham Street Toronto Ontario M6G 2M1 Canada;X-APPLE-RADIUS=500;X-TITLE=659 Markham Street:geo:-79.4125088,43.6656351
END:VEVENT
END:VCALENDAR