BEGIN:VCALENDAR
VERSION:2.0
PRODID:-//St. Peter&#039;s Church - ECPv6.15.20//NONSGML v1.0//EN
CALSCALE:GREGORIAN
METHOD:PUBLISH
X-WR-CALNAME:St. Peter&#039;s Church
X-ORIGINAL-URL:https://stpeterstoronto.ca/main
X-WR-CALDESC:Events for St. Peter&#039;s Church
REFRESH-INTERVAL;VALUE=DURATION:PT1H
X-Robots-Tag:noindex
X-PUBLISHED-TTL:PT1H
BEGIN:VTIMEZONE
TZID:America/Toronto
BEGIN:DAYLIGHT
TZOFFSETFROM:-0500
TZOFFSETTO:-0400
TZNAME:EDT
DTSTART:20210314T070000
END:DAYLIGHT
BEGIN:STANDARD
TZOFFSETFROM:-0400
TZOFFSETTO:-0500
TZNAME:EST
DTSTART:20211107T060000
END:STANDARD
BEGIN:DAYLIGHT
TZOFFSETFROM:-0500
TZOFFSETTO:-0400
TZNAME:EDT
DTSTART:20220313T070000
END:DAYLIGHT
BEGIN:STANDARD
TZOFFSETFROM:-0400
TZOFFSETTO:-0500
TZNAME:EST
DTSTART:20221106T060000
END:STANDARD
BEGIN:DAYLIGHT
TZOFFSETFROM:-0500
TZOFFSETTO:-0400
TZNAME:EDT
DTSTART:20230312T070000
END:DAYLIGHT
BEGIN:STANDARD
TZOFFSETFROM:-0400
TZOFFSETTO:-0500
TZNAME:EST
DTSTART:20231105T060000
END:STANDARD
END:VTIMEZONE
BEGIN:VEVENT
DTSTART;TZID=America/Toronto:20220202T080000
DTEND;TZID=America/Toronto:20220202T083000
DTSTAMP:20260424T195258
CREATED:20220126T205037Z
LAST-MODIFIED:20220126T205037Z
UID:6538-1643788800-1643790600@stpeterstoronto.ca
SUMMARY:The Blessing of Candles
DESCRIPTION:This week\, the Church celebrates the Feast of the Presentation on February 2nd. This feast has traditionally been associated with the blessing of candles. This year\, as a result of the pandemic\, parishioners may bring their own candles to the Mass at 8:00 am on Wednesday\, February 2 and the candles will be blessed at the beginning of Mass. \nOn Thursday\, February 3\, 2022 the Feast of St. Blaise\, the blessing of throats will take place following the 8:00 am Mass.
URL:https://stpeterstoronto.ca/main/events/the-blessing-of-candles-2022/
LOCATION:St. Peter’s Church – Main\, 659 Markham Street\, Toronto\, Ontario\, M6G 2M1\, Canada
CATEGORIES:Special Mass
GEO:43.6656351;-79.4125088
X-APPLE-STRUCTURED-LOCATION;VALUE=URI;X-ADDRESS=St. Peter’s Church – Main 659 Markham Street Toronto Ontario M6G 2M1 Canada;X-APPLE-RADIUS=500;X-TITLE=659 Markham Street:geo:-79.4125088,43.6656351
END:VEVENT
BEGIN:VEVENT
DTSTART;TZID=America/Toronto:20220203T080000
DTEND;TZID=America/Toronto:20220203T083000
DTSTAMP:20260424T195258
CREATED:20220126T205208Z
LAST-MODIFIED:20220126T205208Z
UID:6540-1643875200-1643877000@stpeterstoronto.ca
SUMMARY:Blessing of Throats
DESCRIPTION:This week\, the Church celebrates the Feast of the Presentation on February 2nd. This feast has traditionally been associated with the blessing of candles. This year\, as a result of the pandemic\, parishioners may bring their own candles to the Mass at 8:00 am on Wednesday\, February 2 and the candles will be blessed at the beginning of Mass. \nOn Thursday\, February 3\, 2022 the Feast of St. Blaise\, the blessing of throats will take place following the 8:00 am Mass.
URL:https://stpeterstoronto.ca/main/events/blessing-of-throats-2022/
LOCATION:St. Peter’s Church – Main\, 659 Markham Street\, Toronto\, Ontario\, M6G 2M1\, Canada
CATEGORIES:Special Mass
GEO:43.6656351;-79.4125088
X-APPLE-STRUCTURED-LOCATION;VALUE=URI;X-ADDRESS=St. Peter’s Church – Main 659 Markham Street Toronto Ontario M6G 2M1 Canada;X-APPLE-RADIUS=500;X-TITLE=659 Markham Street:geo:-79.4125088,43.6656351
END:VEVENT
BEGIN:VEVENT
DTSTART;TZID=America/Toronto:20220213T111500
DTEND;TZID=America/Toronto:20220213T120000
DTSTAMP:20260424T195258
CREATED:20220121T002637Z
LAST-MODIFIED:20220121T002637Z
UID:6513-1644750900-1644753600@stpeterstoronto.ca
SUMMARY:Children's Liturgy Online
DESCRIPTION:On a temporary basis the Children’s Liturgy Program will be hosting sessions once a month online.  If interested in participating please send your email address to youngadult-youthmin@stpeterstoronto.ca to receive the class link. The first session will be on Sunday February 13th at 11:15 AM\, with a special Valentine theme. 
URL:https://stpeterstoronto.ca/main/events/childrens-liturgy-online-22-02-13/
LOCATION:St. Peter’s Church – Main\, 659 Markham Street\, Toronto\, Ontario\, M6G 2M1\, Canada
CATEGORIES:Workshop
GEO:43.6656351;-79.4125088
X-APPLE-STRUCTURED-LOCATION;VALUE=URI;X-ADDRESS=St. Peter’s Church – Main 659 Markham Street Toronto Ontario M6G 2M1 Canada;X-APPLE-RADIUS=500;X-TITLE=659 Markham Street:geo:-79.4125088,43.6656351
END:VEVENT
BEGIN:VEVENT
DTSTART;TZID=America/Toronto:20220223T190000
DTEND;TZID=America/Toronto:20220223T210000
DTSTAMP:20260424T195258
CREATED:20220224T181226Z
LAST-MODIFIED:20220224T181226Z
UID:6603-1645642800-1645650000@stpeterstoronto.ca
SUMMARY:Bible Study on the Gospel of Luke
DESCRIPTION:After being in the wilderness of Judea for forty days and forty nights\, alone\, famished\, and weak\, Jesus was tempted by Satan to make loaves of bread from the stones around him\, to prove his power\, to alleviate his suffering. The Lord turned to his tempter and answered\, “It is written: man will not live by bread alone\, but by every word that comes from the mouth of God.”   \nDuring the upcoming “wilderness” season of Lent\, a time when we imitate Christ’s fast from the good things in our lives to pursue a deeper and lasting communion with our God\, we will be following the example of Jesus in nourishing ourselves with the word of God\, studying the stories\, teachings\, patterns\, and promises found in the God-breathed Gospel of Luke. As we read this book from start to finish we will open ourselves up to discover on every page the Word of God made flesh\, and challenge each other to live lives transformed by this same Word. \nBeginning February 23\, 2022\, join us every Wednesday evening for ten weeks at 7:00 PM at St. Peter’s Church as together we strive to “live by every word that comes from the mouth of God.” On Ash Wednesday\, March 2\, 2022\, we will meet immediately after the parish’s 7:00 PM Ash Wednesday Mass.
URL:https://stpeterstoronto.ca/main/events/bible-study-on-the-gospel-of-luke-spring-2022/2022-02-23/
LOCATION:St. Peter’s Church – Main\, 659 Markham Street\, Toronto\, Ontario\, M6G 2M1\, Canada
CATEGORIES:Workshop
GEO:43.6656351;-79.4125088
X-APPLE-STRUCTURED-LOCATION;VALUE=URI;X-ADDRESS=St. Peter’s Church – Main 659 Markham Street Toronto Ontario M6G 2M1 Canada;X-APPLE-RADIUS=500;X-TITLE=659 Markham Street:geo:-79.4125088,43.6656351
END:VEVENT
END:VCALENDAR