BEGIN:VCALENDAR
VERSION:2.0
PRODID:-//St. Peter&#039;s Church - ECPv6.15.20//NONSGML v1.0//EN
CALSCALE:GREGORIAN
METHOD:PUBLISH
X-WR-CALNAME:St. Peter&#039;s Church
X-ORIGINAL-URL:https://stpeterstoronto.ca/main
X-WR-CALDESC:Events for St. Peter&#039;s Church
REFRESH-INTERVAL;VALUE=DURATION:PT1H
X-Robots-Tag:noindex
X-PUBLISHED-TTL:PT1H
BEGIN:VTIMEZONE
TZID:America/Toronto
BEGIN:DAYLIGHT
TZOFFSETFROM:-0500
TZOFFSETTO:-0400
TZNAME:EDT
DTSTART:20210314T070000
END:DAYLIGHT
BEGIN:STANDARD
TZOFFSETFROM:-0400
TZOFFSETTO:-0500
TZNAME:EST
DTSTART:20211107T060000
END:STANDARD
BEGIN:DAYLIGHT
TZOFFSETFROM:-0500
TZOFFSETTO:-0400
TZNAME:EDT
DTSTART:20220313T070000
END:DAYLIGHT
BEGIN:STANDARD
TZOFFSETFROM:-0400
TZOFFSETTO:-0500
TZNAME:EST
DTSTART:20221106T060000
END:STANDARD
BEGIN:DAYLIGHT
TZOFFSETFROM:-0500
TZOFFSETTO:-0400
TZNAME:EDT
DTSTART:20230312T070000
END:DAYLIGHT
BEGIN:STANDARD
TZOFFSETFROM:-0400
TZOFFSETTO:-0500
TZNAME:EST
DTSTART:20231105T060000
END:STANDARD
END:VTIMEZONE
BEGIN:VEVENT
DTSTART;TZID=America/Toronto:20220505T190000
DTEND;TZID=America/Toronto:20220505T210000
DTSTAMP:20260424T150518
CREATED:20220330T234734Z
LAST-MODIFIED:20220330T234734Z
UID:6734-1651777200-1651784400@stpeterstoronto.ca
SUMMARY:Stay With us Lord
DESCRIPTION:At the invitation of the Parish\, Father Thomas Rosica \,CSB will present three evenings of reflection and discussion on the Easter Mysteries with emphasis on the Gospel accounts based on his book  “Stay with  us”  Encounters with the Risen Lord. These will take place in the Church on Thursday\, May 5\, 12\, and 19 at 7:00 p.m. Copies of his book will be made available for purchase. Parishioners are welcome to attend!
URL:https://stpeterstoronto.ca/main/events/stay-with-us-lord/2022-05-05/
LOCATION:St. Peter’s Church – Main\, 659 Markham Street\, Toronto\, Ontario\, M6G 2M1\, Canada
CATEGORIES:Workshop
GEO:43.6656351;-79.4125088
X-APPLE-STRUCTURED-LOCATION;VALUE=URI;X-ADDRESS=St. Peter’s Church – Main 659 Markham Street Toronto Ontario M6G 2M1 Canada;X-APPLE-RADIUS=500;X-TITLE=659 Markham Street:geo:-79.4125088,43.6656351
END:VEVENT
BEGIN:VEVENT
DTSTART;VALUE=DATE:20220516
DTEND;VALUE=DATE:20220518
DTSTAMP:20260424T150518
CREATED:20220513T232203Z
LAST-MODIFIED:20220513T232203Z
UID:6850-1652666400-1652752799@stpeterstoronto.ca
SUMMARY:Office Closed
DESCRIPTION:  \nPlease note that the Parish office will be closed on Monday\, May 16.
URL:https://stpeterstoronto.ca/main/events/office-closed-22-05-16/
LOCATION:St. Peter’s Church – Main\, 659 Markham Street\, Toronto\, Ontario\, M6G 2M1\, Canada
CATEGORIES:General News
GEO:43.6656351;-79.4125088
X-APPLE-STRUCTURED-LOCATION;VALUE=URI;X-ADDRESS=St. Peter’s Church – Main 659 Markham Street Toronto Ontario M6G 2M1 Canada;X-APPLE-RADIUS=500;X-TITLE=659 Markham Street:geo:-79.4125088,43.6656351
END:VEVENT
BEGIN:VEVENT
DTSTART;TZID=America/Toronto:20220522T170000
DTEND;TZID=America/Toronto:20220522T180000
DTSTAMP:20260424T150518
CREATED:20220507T152002Z
LAST-MODIFIED:20220507T152002Z
UID:6829-1653238800-1653242400@stpeterstoronto.ca
SUMMARY:Solemn Sung Vespers
DESCRIPTION:  \nOn Sunday\, May 22\, the parish will celebrate Solemn Sung Vespers at 5:00 PM in the Church. Please come and pray with us
URL:https://stpeterstoronto.ca/main/events/solemn-sung-vespers-22-05-22/
LOCATION:St. Peter’s Church – Main\, 659 Markham Street\, Toronto\, Ontario\, M6G 2M1\, Canada
CATEGORIES:Special Mass
GEO:43.6656351;-79.4125088
X-APPLE-STRUCTURED-LOCATION;VALUE=URI;X-ADDRESS=St. Peter’s Church – Main 659 Markham Street Toronto Ontario M6G 2M1 Canada;X-APPLE-RADIUS=500;X-TITLE=659 Markham Street:geo:-79.4125088,43.6656351
END:VEVENT
BEGIN:VEVENT
DTSTART;VALUE=DATE:20220523
DTEND;VALUE=DATE:20220525
DTSTAMP:20260424T150518
CREATED:20220513T233708Z
LAST-MODIFIED:20220513T233708Z
UID:6867-1653271200-1653357599@stpeterstoronto.ca
SUMMARY:Office Closed
DESCRIPTION:Please note that the Parish office will be closed on Monday\, May 23 – Victoria Day. Mass will be celebrated at 10:00 AM and there will be no adoration on that day.
URL:https://stpeterstoronto.ca/main/events/office-closed-22-05-23/
LOCATION:St. Peter’s Church – Main\, 659 Markham Street\, Toronto\, Ontario\, M6G 2M1\, Canada
CATEGORIES:General News
GEO:43.6656351;-79.4125088
X-APPLE-STRUCTURED-LOCATION;VALUE=URI;X-ADDRESS=St. Peter’s Church – Main 659 Markham Street Toronto Ontario M6G 2M1 Canada;X-APPLE-RADIUS=500;X-TITLE=659 Markham Street:geo:-79.4125088,43.6656351
END:VEVENT
BEGIN:VEVENT
DTSTART;TZID=America/Toronto:20220526T190000
DTEND;TZID=America/Toronto:20220526T210000
DTSTAMP:20260424T150518
CREATED:20220513T234124Z
LAST-MODIFIED:20220526T150918Z
UID:6871-1653591600-1653598800@stpeterstoronto.ca
SUMMARY:The Source - Sisters of Life - Cancelled
DESCRIPTION:Dear Friends\, \nThe SOURCE is CANCELLED due to illness. We are praying for you and all your intentions! \n-The Sisters of Life \n\nThe Sisters of Life will be hosting “The Source” here in our Church on Thursday\, May 26 at 7:00 PM. You are invited to come for an evening of Eucharistic Adoration (7:00 PM – 8:00 PM) followed by Christian fellowship (Social at 8:00 PM – 9:00 PM). Confession will also be available during Adoration.
URL:https://stpeterstoronto.ca/main/events/the-source-sisters-of-life-22-05-26/
LOCATION:St. Peter’s Church – Main\, 659 Markham Street\, Toronto\, Ontario\, M6G 2M1\, Canada
CATEGORIES:Prayer Group,Social
GEO:43.6656351;-79.4125088
X-APPLE-STRUCTURED-LOCATION;VALUE=URI;X-ADDRESS=St. Peter’s Church – Main 659 Markham Street Toronto Ontario M6G 2M1 Canada;X-APPLE-RADIUS=500;X-TITLE=659 Markham Street:geo:-79.4125088,43.6656351
END:VEVENT
BEGIN:VEVENT
DTSTART;TZID=America/Toronto:20220528T140000
DTEND;TZID=America/Toronto:20220528T190000
DTSTAMP:20260424T150518
CREATED:20220507T152313Z
LAST-MODIFIED:20220507T152313Z
UID:6833-1653746400-1653764400@stpeterstoronto.ca
SUMMARY:Spring Bazaar and Bake Sale
DESCRIPTION:The parish will have a spring bazaar and bake sale on the weekend of May 28 and May 29. It will take place on Saturday\, May 28 from 2:00 PM – 7:00 PM and Sunday\, May 29 from 10:00 AM – 1:00 PM. Please come and support the parish at our Spring Bazaar.
URL:https://stpeterstoronto.ca/main/events/spring-bazaar-and-bake-sale-2022/2022-05-28/
LOCATION:St. Peter’s Church – Main\, 659 Markham Street\, Toronto\, Ontario\, M6G 2M1\, Canada
CATEGORIES:Social
GEO:43.6656351;-79.4125088
X-APPLE-STRUCTURED-LOCATION;VALUE=URI;X-ADDRESS=St. Peter’s Church – Main 659 Markham Street Toronto Ontario M6G 2M1 Canada;X-APPLE-RADIUS=500;X-TITLE=659 Markham Street:geo:-79.4125088,43.6656351
END:VEVENT
END:VCALENDAR