BEGIN:VCALENDAR
VERSION:2.0
PRODID:-//St. Peter&#039;s Church - ECPv6.15.20//NONSGML v1.0//EN
CALSCALE:GREGORIAN
METHOD:PUBLISH
X-ORIGINAL-URL:https://stpeterstoronto.ca/main
X-WR-CALDESC:Events for St. Peter&#039;s Church
REFRESH-INTERVAL;VALUE=DURATION:PT1H
X-Robots-Tag:noindex
X-PUBLISHED-TTL:PT1H
BEGIN:VTIMEZONE
TZID:America/Toronto
BEGIN:DAYLIGHT
TZOFFSETFROM:-0500
TZOFFSETTO:-0400
TZNAME:EDT
DTSTART:20210314T070000
END:DAYLIGHT
BEGIN:STANDARD
TZOFFSETFROM:-0400
TZOFFSETTO:-0500
TZNAME:EST
DTSTART:20211107T060000
END:STANDARD
BEGIN:DAYLIGHT
TZOFFSETFROM:-0500
TZOFFSETTO:-0400
TZNAME:EDT
DTSTART:20220313T070000
END:DAYLIGHT
BEGIN:STANDARD
TZOFFSETFROM:-0400
TZOFFSETTO:-0500
TZNAME:EST
DTSTART:20221106T060000
END:STANDARD
BEGIN:DAYLIGHT
TZOFFSETFROM:-0500
TZOFFSETTO:-0400
TZNAME:EDT
DTSTART:20230312T070000
END:DAYLIGHT
BEGIN:STANDARD
TZOFFSETFROM:-0400
TZOFFSETTO:-0500
TZNAME:EST
DTSTART:20231105T060000
END:STANDARD
END:VTIMEZONE
BEGIN:VEVENT
DTSTART;TZID=America/Toronto:20220806T210000
DTEND;TZID=America/Toronto:20220806T230000
DTSTAMP:20260424T103705
CREATED:20220622T174703Z
LAST-MODIFIED:20220622T174703Z
UID:7002-1659819600-1659826800@stpeterstoronto.ca
SUMMARY:Courtyard Movie - The Bad Guys
DESCRIPTION:
URL:https://stpeterstoronto.ca/main/events/courtyard-movie-the-bad-guys/
LOCATION:St. Peter’s Church – Main\, 659 Markham Street\, Toronto\, Ontario\, M6G 2M1\, Canada
CATEGORIES:Courtyard Movies
GEO:43.6656351;-79.4125088
X-APPLE-STRUCTURED-LOCATION;VALUE=URI;X-ADDRESS=St. Peter’s Church – Main 659 Markham Street Toronto Ontario M6G 2M1 Canada;X-APPLE-RADIUS=500;X-TITLE=659 Markham Street:geo:-79.4125088,43.6656351
END:VEVENT
BEGIN:VEVENT
DTSTART;TZID=America/Toronto:20220814T123000
DTEND;TZID=America/Toronto:20220814T133000
DTSTAMP:20260424T103705
CREATED:20220622T183843Z
LAST-MODIFIED:20220622T183843Z
UID:7031-1660480200-1660483800@stpeterstoronto.ca
SUMMARY:Croissant Sunday!
DESCRIPTION:On Sunday\, August 14th\, following the 11:15 am Mass\,\njoin us for a dessert themed Coffee Hour! \nCome for coffee\, a featured dessert\, friendly conversations and family activities!
URL:https://stpeterstoronto.ca/main/events/croissant-sunday-2022/
LOCATION:St. Peter’s Church – Main\, 659 Markham Street\, Toronto\, Ontario\, M6G 2M1\, Canada
CATEGORIES:Social
GEO:43.6656351;-79.4125088
X-APPLE-STRUCTURED-LOCATION;VALUE=URI;X-ADDRESS=St. Peter’s Church – Main 659 Markham Street Toronto Ontario M6G 2M1 Canada;X-APPLE-RADIUS=500;X-TITLE=659 Markham Street:geo:-79.4125088,43.6656351
END:VEVENT
BEGIN:VEVENT
DTSTART;TZID=America/Toronto:20220817T190000
DTEND;TZID=America/Toronto:20220817T210000
DTSTAMP:20260424T103705
CREATED:20220813T131851Z
LAST-MODIFIED:20220813T131851Z
UID:7084-1660762800-1660770000@stpeterstoronto.ca
SUMMARY:Fall Fair 2022 Event Committee Meeting
DESCRIPTION:We are having a meeting for anyone who would like to volunteer to help with the Fall Fair. Past volunteers and new volunteers are encouraged to attend. The meeting will provide information about the tasks that will need to be completed and provide opportunity for the community to ask any questions and/or suggestions they may have regarding this year’s event. \nThe meeting will be held on Wednesday\, August 17\, 2022 at 7pm in the Church Auditorium. If you are unable to attend and would like to volunteer feel free to contact the church office at 416-534-4219 to be added to the list. \nWe look forward to seeing as many people as possible to make this event a success. \nFALL FAIR DONATIONS \nWe will be accepting this year’s Fall Fair donations starting Monday October 1\, 2022. Please deliver your donations to the parish office.
URL:https://stpeterstoronto.ca/main/events/fall-fair-2022-event-committee-meeting/
LOCATION:St. Peter’s Church – Main\, 659 Markham Street\, Toronto\, Ontario\, M6G 2M1\, Canada
CATEGORIES:Meeting
GEO:43.6656351;-79.4125088
X-APPLE-STRUCTURED-LOCATION;VALUE=URI;X-ADDRESS=St. Peter’s Church – Main 659 Markham Street Toronto Ontario M6G 2M1 Canada;X-APPLE-RADIUS=500;X-TITLE=659 Markham Street:geo:-79.4125088,43.6656351
END:VEVENT
BEGIN:VEVENT
DTSTART;TZID=America/Toronto:20220820T210000
DTEND;TZID=America/Toronto:20220820T230000
DTSTAMP:20260424T103705
CREATED:20220622T174853Z
LAST-MODIFIED:20220622T174853Z
UID:7004-1661029200-1661036400@stpeterstoronto.ca
SUMMARY:Courtyard Movie - The Eternals
DESCRIPTION:
URL:https://stpeterstoronto.ca/main/events/courtyard-movie-the-eternals/
LOCATION:St. Peter’s Church – Main\, 659 Markham Street\, Toronto\, Ontario\, M6G 2M1\, Canada
CATEGORIES:Courtyard Movies
GEO:43.6656351;-79.4125088
X-APPLE-STRUCTURED-LOCATION;VALUE=URI;X-ADDRESS=St. Peter’s Church – Main 659 Markham Street Toronto Ontario M6G 2M1 Canada;X-APPLE-RADIUS=500;X-TITLE=659 Markham Street:geo:-79.4125088,43.6656351
END:VEVENT
END:VCALENDAR