BEGIN:VCALENDAR
VERSION:2.0
PRODID:-//St. Peter&#039;s Church - ECPv6.15.20//NONSGML v1.0//EN
CALSCALE:GREGORIAN
METHOD:PUBLISH
X-WR-CALNAME:St. Peter&#039;s Church
X-ORIGINAL-URL:https://stpeterstoronto.ca/main
X-WR-CALDESC:Events for St. Peter&#039;s Church
REFRESH-INTERVAL;VALUE=DURATION:PT1H
X-Robots-Tag:noindex
X-PUBLISHED-TTL:PT1H
BEGIN:VTIMEZONE
TZID:America/Toronto
BEGIN:DAYLIGHT
TZOFFSETFROM:-0500
TZOFFSETTO:-0400
TZNAME:EDT
DTSTART:20210314T070000
END:DAYLIGHT
BEGIN:STANDARD
TZOFFSETFROM:-0400
TZOFFSETTO:-0500
TZNAME:EST
DTSTART:20211107T060000
END:STANDARD
BEGIN:DAYLIGHT
TZOFFSETFROM:-0500
TZOFFSETTO:-0400
TZNAME:EDT
DTSTART:20220313T070000
END:DAYLIGHT
BEGIN:STANDARD
TZOFFSETFROM:-0400
TZOFFSETTO:-0500
TZNAME:EST
DTSTART:20221106T060000
END:STANDARD
BEGIN:DAYLIGHT
TZOFFSETFROM:-0500
TZOFFSETTO:-0400
TZNAME:EDT
DTSTART:20230312T070000
END:DAYLIGHT
BEGIN:STANDARD
TZOFFSETFROM:-0400
TZOFFSETTO:-0500
TZNAME:EST
DTSTART:20231105T060000
END:STANDARD
END:VTIMEZONE
BEGIN:VEVENT
DTSTART;TZID=America/Toronto:20220911T123000
DTEND;TZID=America/Toronto:20220911T133000
DTSTAMP:20260424T091107
CREATED:20220622T183737Z
LAST-MODIFIED:20220622T183737Z
UID:7029-1662899400-1662903000@stpeterstoronto.ca
SUMMARY:Pie Sunday!
DESCRIPTION:On Sunday\, September 11th\, following the 11:15 am Mass\,\njoin us for a dessert themed Coffee Hour! \nCome for coffee\, a featured dessert\, friendly conversations and family activities!
URL:https://stpeterstoronto.ca/main/events/pie-sunday/
LOCATION:St. Peter’s Church – Main\, 659 Markham Street\, Toronto\, Ontario\, M6G 2M1\, Canada
CATEGORIES:Social
GEO:43.6656351;-79.4125088
X-APPLE-STRUCTURED-LOCATION;VALUE=URI;X-ADDRESS=St. Peter’s Church – Main 659 Markham Street Toronto Ontario M6G 2M1 Canada;X-APPLE-RADIUS=500;X-TITLE=659 Markham Street:geo:-79.4125088,43.6656351
END:VEVENT
BEGIN:VEVENT
DTSTART;TZID=America/Toronto:20220914T190000
DTEND;TZID=America/Toronto:20220914T210000
DTSTAMP:20260424T091107
CREATED:20220813T132713Z
LAST-MODIFIED:20220813T132713Z
UID:7089-1663182000-1663189200@stpeterstoronto.ca
SUMMARY:Lecture - "Why is the Crucifix our defining symbol as Christians?"
DESCRIPTION:You are invited to join us on the Feast of the Exaltation (Triumph) of the Holy Cross\, Wednesday\, September 14\, 2022 at 7 pm as Fr. Thomas Rosica\, CSB hosts an evening reflection on the Crucifix and why it is our defining symbol as Christians. \nAll are welcome to attend! \n\nDate: Wednesday evening\, September 14\, 2022\nTime: 7:00 pm\nLocation: St. Peter’s Church\, Auditorium (Entrance to the auditorium is under the archway)
URL:https://stpeterstoronto.ca/main/events/lecture-why-is-the-crucifix-our-defining-symbol-as-christians/
LOCATION:St. Peter’s Church – Main\, 659 Markham Street\, Toronto\, Ontario\, M6G 2M1\, Canada
CATEGORIES:Workshop
GEO:43.6656351;-79.4125088
X-APPLE-STRUCTURED-LOCATION;VALUE=URI;X-ADDRESS=St. Peter’s Church – Main 659 Markham Street Toronto Ontario M6G 2M1 Canada;X-APPLE-RADIUS=500;X-TITLE=659 Markham Street:geo:-79.4125088,43.6656351
END:VEVENT
BEGIN:VEVENT
DTSTART;TZID=America/Toronto:20220915T190000
DTEND;TZID=America/Toronto:20220915T210000
DTSTAMP:20260424T091107
CREATED:20220813T135826Z
LAST-MODIFIED:20221011T170035Z
UID:7107-1663268400-1663275600@stpeterstoronto.ca
SUMMARY:Lecture Series - Listening to Indigenous Voices
DESCRIPTION:The Jesuit Form for Social Faith and Justice has recently published a dialogue guide\, in partnership with Indigenous elders and knowledge keepers\, ‘Listening to Indigenous Voices: A Dialogue Guide on Justice and Right Relationships’. It has been published by Novalis Publishing as a response to ‘Canada’s Truth and Reconciliation Commission’ Calls to Action. \nSt. Peter’s Parish has invited Elder Bob Philips and Fr. Trevor Scott s.j.\, of the Jesuit Forum\, to introduce our parish community\, and those of our wider community who might be interested\, to this dialogue process. \nThrough a selection of 4 Sessions from ‘Listening to Indigenous Voices’ interested participants will meet once a month to reflect upon past wrongs that have been inflicted upon Indigenous communities\, and how we can move towards right relationships with Indigenous peoples as a society and as a church community based upon a renewed respect and celebration. These encounters will take place on the evenings of Thursdays\, September 15\, October 13 (Rescheduled)\, November 10\, December 8\, and January 12 from 7:00 to 9:00 pm in the parish auditorium. \nThere will be a registration fee of $45.00 for those who attend. This includes the purchase of the book “Listening to Indigenous Voices.” For those who already have the book\, registration is $25.00. The registration fee will be waived for any who cannot afford to pay it. Please register in advance with the St. Peter’s parish office: 416-534-4219. Registration is limited to 40 persons. Please note\, that our parish hall is not wheel chair accessible. For more information on the guide itself visit: LTIV.ca
URL:https://stpeterstoronto.ca/main/events/lecture-series-listening-to-indigenous-voices/2022-09-15/
LOCATION:St. Peter’s Church – Main\, 659 Markham Street\, Toronto\, Ontario\, M6G 2M1\, Canada
CATEGORIES:Workshop
GEO:43.6656351;-79.4125088
X-APPLE-STRUCTURED-LOCATION;VALUE=URI;X-ADDRESS=St. Peter’s Church – Main 659 Markham Street Toronto Ontario M6G 2M1 Canada;X-APPLE-RADIUS=500;X-TITLE=659 Markham Street:geo:-79.4125088,43.6656351
END:VEVENT
BEGIN:VEVENT
DTSTART;TZID=America/Toronto:20220917T133000
DTEND;TZID=America/Toronto:20220917T150000
DTSTAMP:20260424T091107
CREATED:20220813T135016Z
LAST-MODIFIED:20220813T140237Z
UID:7099-1663421400-1663426800@stpeterstoronto.ca
SUMMARY:Lectors Ministry Workshop
DESCRIPTION:Please Get Involved \nThe parish invites parishioners to consider getting involved in different ministries. The parish needs Ushers and Ministers of Hospitality\, Lectors\, Eucharistic Ministers and Altar Servers. \nPlease consider attending workshops in the Church: \n\nLectors Ministry – Saturday\, September 17\, from 1:30 – 3:00 pm\nEucharistic Ministry- Saturday\, September 24\, from 1:30 – 3:00 pm\nAltar Servers Ministry – Saturday\, September 24\, from 10 am – 12 noon\nUshers and Ministers of Hospitality – Saturday\, October 15\, from 1:30 – 3:00 pm\n\nPlease call the parish office at 416-534-4219 to register.
URL:https://stpeterstoronto.ca/main/events/lectors-ministry-workshop-2022/
LOCATION:St. Peter’s Church – Main\, 659 Markham Street\, Toronto\, Ontario\, M6G 2M1\, Canada
CATEGORIES:Workshop
GEO:43.6656351;-79.4125088
X-APPLE-STRUCTURED-LOCATION;VALUE=URI;X-ADDRESS=St. Peter’s Church – Main 659 Markham Street Toronto Ontario M6G 2M1 Canada;X-APPLE-RADIUS=500;X-TITLE=659 Markham Street:geo:-79.4125088,43.6656351
END:VEVENT
BEGIN:VEVENT
DTSTART;TZID=America/Toronto:20220921T130000
DTEND;TZID=America/Toronto:20220921T150000
DTSTAMP:20260424T091107
CREATED:20220915T032412Z
LAST-MODIFIED:20220915T032412Z
UID:7177-1663765200-1663772400@stpeterstoronto.ca
SUMMARY:In-person Drop-in Bereavement Support Session
DESCRIPTION:Share discussions with others in a safe\, welcoming and non-judgmental forum \n\nTopic: End of Summer: leaving behind and looking beyond\nVenue: St. Peter’s Auditorium (Please note there is no wheelchair access to the parish hall. Green P parking available on Markham St.)\nDate: Sept. 21 @ 1:00 PM\n\nRegister at: https://nbbes.eventbrite.ca. For more info contact: Arcangelo Limanni\, MRE at alimanni@cfstoronto.com or 647-215-3978.
URL:https://stpeterstoronto.ca/main/events/in-person-drop-in-bereavement-support-session/
LOCATION:St. Peter’s Church – Main\, 659 Markham Street\, Toronto\, Ontario\, M6G 2M1\, Canada
CATEGORIES:Workshop
GEO:43.6656351;-79.4125088
X-APPLE-STRUCTURED-LOCATION;VALUE=URI;X-ADDRESS=St. Peter’s Church – Main 659 Markham Street Toronto Ontario M6G 2M1 Canada;X-APPLE-RADIUS=500;X-TITLE=659 Markham Street:geo:-79.4125088,43.6656351
END:VEVENT
BEGIN:VEVENT
DTSTART;TZID=America/Toronto:20220924T100000
DTEND;TZID=America/Toronto:20220924T120000
DTSTAMP:20260424T091107
CREATED:20220813T135248Z
LAST-MODIFIED:20220813T135248Z
UID:7103-1664013600-1664020800@stpeterstoronto.ca
SUMMARY:Altar Servers Ministry Workshop
DESCRIPTION:Please Get Involved \nThe parish invites parishioners to consider getting involved in different ministries. The parish needs Ushers and Ministers of Hospitality\, Lectors\, Eucharistic Ministers and Altar Servers. \nPlease consider attending workshops in the Church: \n\nLectors Ministry – Saturday\, September 17\, from 1:30 – 3:00 pm\nEucharistic Ministry- Saturday\, September 24\, from 1:30 – 3:00 pm\nAltar Servers Ministry – Saturday\, September 24\, from 10 am – 12 noon\nUshers and Ministers of Hospitality – Saturday\, October 15\, from 1:30 – 3:00 pm\n\nPlease call the parish office at 416-534-4219 to register.
URL:https://stpeterstoronto.ca/main/events/altar-servers-ministry-workshop-2022/
LOCATION:St. Peter’s Church – Main\, 659 Markham Street\, Toronto\, Ontario\, M6G 2M1\, Canada
CATEGORIES:Workshop
GEO:43.6656351;-79.4125088
X-APPLE-STRUCTURED-LOCATION;VALUE=URI;X-ADDRESS=St. Peter’s Church – Main 659 Markham Street Toronto Ontario M6G 2M1 Canada;X-APPLE-RADIUS=500;X-TITLE=659 Markham Street:geo:-79.4125088,43.6656351
END:VEVENT
BEGIN:VEVENT
DTSTART;TZID=America/Toronto:20220924T133000
DTEND;TZID=America/Toronto:20220924T150000
DTSTAMP:20260424T091107
CREATED:20220813T135132Z
LAST-MODIFIED:20220813T135132Z
UID:7101-1664026200-1664031600@stpeterstoronto.ca
SUMMARY:Eucharistic Ministry Workshop
DESCRIPTION:Please Get Involved \nThe parish invites parishioners to consider getting involved in different ministries. The parish needs Ushers and Ministers of Hospitality\, Lectors\, Eucharistic Ministers and Altar Servers. \nPlease consider attending workshops in the Church: \n\nLectors Ministry – Saturday\, September 17\, from 1:30 – 3:00 pm\nEucharistic Ministry- Saturday\, September 24\, from 1:30 – 3:00 pm\nAltar Servers Ministry – Saturday\, September 24\, from 10 am – 12 noon\nUshers and Ministers of Hospitality – Saturday\, October 15\, from 1:30 – 3:00 pm\n\nPlease call the parish office at 416-534-4219 to register.
URL:https://stpeterstoronto.ca/main/events/eucharistic-ministry-workshop-2022/
LOCATION:St. Peter’s Church – Main\, 659 Markham Street\, Toronto\, Ontario\, M6G 2M1\, Canada
CATEGORIES:Workshop
GEO:43.6656351;-79.4125088
X-APPLE-STRUCTURED-LOCATION;VALUE=URI;X-ADDRESS=St. Peter’s Church – Main 659 Markham Street Toronto Ontario M6G 2M1 Canada;X-APPLE-RADIUS=500;X-TITLE=659 Markham Street:geo:-79.4125088,43.6656351
END:VEVENT
BEGIN:VEVENT
DTSTART;TZID=America/Toronto:20220924T180000
DTEND;TZID=America/Toronto:20220924T193000
DTSTAMP:20260424T091107
CREATED:20220915T031328Z
LAST-MODIFIED:20220915T031328Z
UID:7170-1664042400-1664047800@stpeterstoronto.ca
SUMMARY:Welcome Social
DESCRIPTION:There will be a Welcome Social on Saturday\, September 24 following 5:00 PM Mass & Sunday\, September 25 following  9 AM & 11:15 AM Masses. All are welcome to join us for Food and Fun in our Courtyard\, or in the case of rain\, our Auditorium
URL:https://stpeterstoronto.ca/main/events/welcome-social/2022-09-24/
LOCATION:St. Peter’s Church – Main\, 659 Markham Street\, Toronto\, Ontario\, M6G 2M1\, Canada
CATEGORIES:Social
GEO:43.6656351;-79.4125088
X-APPLE-STRUCTURED-LOCATION;VALUE=URI;X-ADDRESS=St. Peter’s Church – Main 659 Markham Street Toronto Ontario M6G 2M1 Canada;X-APPLE-RADIUS=500;X-TITLE=659 Markham Street:geo:-79.4125088,43.6656351
END:VEVENT
END:VCALENDAR