BEGIN:VCALENDAR
VERSION:2.0
PRODID:-//St. Peter&#039;s Church - ECPv6.15.20//NONSGML v1.0//EN
CALSCALE:GREGORIAN
METHOD:PUBLISH
X-WR-CALNAME:St. Peter&#039;s Church
X-ORIGINAL-URL:https://stpeterstoronto.ca/main
X-WR-CALDESC:Events for St. Peter&#039;s Church
REFRESH-INTERVAL;VALUE=DURATION:PT1H
X-Robots-Tag:noindex
X-PUBLISHED-TTL:PT1H
BEGIN:VTIMEZONE
TZID:America/Toronto
BEGIN:DAYLIGHT
TZOFFSETFROM:-0500
TZOFFSETTO:-0400
TZNAME:EDT
DTSTART:20190310T070000
END:DAYLIGHT
BEGIN:STANDARD
TZOFFSETFROM:-0400
TZOFFSETTO:-0500
TZNAME:EST
DTSTART:20191103T060000
END:STANDARD
BEGIN:DAYLIGHT
TZOFFSETFROM:-0500
TZOFFSETTO:-0400
TZNAME:EDT
DTSTART:20200308T070000
END:DAYLIGHT
BEGIN:STANDARD
TZOFFSETFROM:-0400
TZOFFSETTO:-0500
TZNAME:EST
DTSTART:20201101T060000
END:STANDARD
BEGIN:DAYLIGHT
TZOFFSETFROM:-0500
TZOFFSETTO:-0400
TZNAME:EDT
DTSTART:20210314T070000
END:DAYLIGHT
BEGIN:STANDARD
TZOFFSETFROM:-0400
TZOFFSETTO:-0500
TZNAME:EST
DTSTART:20211107T060000
END:STANDARD
END:VTIMEZONE
BEGIN:VEVENT
DTSTART;TZID=America/Toronto:20200303T133000
DTEND;TZID=America/Toronto:20200303T153000
DTSTAMP:20260419T084609
CREATED:20200212T150059Z
LAST-MODIFIED:20200208T002245Z
UID:5291-1583242200-1583249400@stpeterstoronto.ca
SUMMARY:New Beginnings - Bereavement Ministry Support Group
DESCRIPTION:A five (5) week bereavement ministry support group will be starting at St. Peter’s rectory offices starting on Tuesday\, March 3 to April 7   from 1:30 -3:30p.m. If you or someone you know is dealing with the loss of a loved one and would like to join this group\, please register at the parish office (416-534-4219) Group facilitator: Sr. Gabriel M. Riddle cps
URL:https://stpeterstoronto.ca/main/events/new-beginnings-bereavement-ministry-support-group-spring-2020/2020-03-03/
LOCATION:St. Peter’s Church – Main\, 659 Markham Street\, Toronto\, Ontario\, M6G 2M1\, Canada
CATEGORIES:Meeting,Workshop
GEO:43.6656351;-79.4125088
X-APPLE-STRUCTURED-LOCATION;VALUE=URI;X-ADDRESS=St. Peter’s Church – Main 659 Markham Street Toronto Ontario M6G 2M1 Canada;X-APPLE-RADIUS=500;X-TITLE=659 Markham Street:geo:-79.4125088,43.6656351
END:VEVENT
END:VCALENDAR