BEGIN:VCALENDAR
VERSION:2.0
PRODID:-//St. Peter&#039;s Church - ECPv6.15.20//NONSGML v1.0//EN
CALSCALE:GREGORIAN
METHOD:PUBLISH
X-WR-CALNAME:St. Peter&#039;s Church
X-ORIGINAL-URL:https://stpeterstoronto.ca/main
X-WR-CALDESC:Events for St. Peter&#039;s Church
REFRESH-INTERVAL;VALUE=DURATION:PT1H
X-Robots-Tag:noindex
X-PUBLISHED-TTL:PT1H
BEGIN:VTIMEZONE
TZID:America/Toronto
BEGIN:DAYLIGHT
TZOFFSETFROM:-0500
TZOFFSETTO:-0400
TZNAME:EDT
DTSTART:20170312T070000
END:DAYLIGHT
BEGIN:STANDARD
TZOFFSETFROM:-0400
TZOFFSETTO:-0500
TZNAME:EST
DTSTART:20171105T060000
END:STANDARD
BEGIN:DAYLIGHT
TZOFFSETFROM:-0500
TZOFFSETTO:-0400
TZNAME:EDT
DTSTART:20180311T070000
END:DAYLIGHT
BEGIN:STANDARD
TZOFFSETFROM:-0400
TZOFFSETTO:-0500
TZNAME:EST
DTSTART:20181104T060000
END:STANDARD
BEGIN:DAYLIGHT
TZOFFSETFROM:-0500
TZOFFSETTO:-0400
TZNAME:EDT
DTSTART:20190310T070000
END:DAYLIGHT
BEGIN:STANDARD
TZOFFSETFROM:-0400
TZOFFSETTO:-0500
TZNAME:EST
DTSTART:20191103T060000
END:STANDARD
END:VTIMEZONE
BEGIN:VEVENT
DTSTART;TZID=America/Toronto:20180315T143000
DTEND;TZID=America/Toronto:20180315T163000
DTSTAMP:20260419T083038
CREATED:20180307T150046Z
LAST-MODIFIED:20180316T210304Z
UID:3030-1521124200-1521131400@stpeterstoronto.ca
SUMMARY:New Beginnings - Bereavement Ministry Support Group
DESCRIPTION: A six (6) week bereavement ministry support group will be starting at St. Peter’s (Ministry Centre) starting on Thursday\, March 15 – April 19 \, 2018 from 2:30 – 4:30 pm. If you or someone you know is dealing with the loss of a loved one and would like to join this group\, please register at the parish office (416-534-4219)
URL:https://stpeterstoronto.ca/main/events/new-beginnings-bereavement-ministry-support-group/2018-03-15/
LOCATION:The Centre\, 830 Bathurst Street\, Toronto\, Ontario\, M5R 3G1\, Canada
CATEGORIES:Meeting,Prayer Group
GEO:43.6658993;-79.4116382
X-APPLE-STRUCTURED-LOCATION;VALUE=URI;X-ADDRESS=The Centre 830 Bathurst Street Toronto Ontario M5R 3G1 Canada;X-APPLE-RADIUS=500;X-TITLE=830 Bathurst Street:geo:-79.4116382,43.6658993
END:VEVENT
END:VCALENDAR