BEGIN:VCALENDAR
VERSION:2.0
PRODID:-//St. Peter&#039;s Church - ECPv6.15.20//NONSGML v1.0//EN
CALSCALE:GREGORIAN
METHOD:PUBLISH
X-WR-CALNAME:St. Peter&#039;s Church
X-ORIGINAL-URL:https://stpeterstoronto.ca/main
X-WR-CALDESC:Events for St. Peter&#039;s Church
REFRESH-INTERVAL;VALUE=DURATION:PT1H
X-Robots-Tag:noindex
X-PUBLISHED-TTL:PT1H
BEGIN:VTIMEZONE
TZID:America/Toronto
BEGIN:DAYLIGHT
TZOFFSETFROM:-0500
TZOFFSETTO:-0400
TZNAME:EDT
DTSTART:20200308T070000
END:DAYLIGHT
BEGIN:STANDARD
TZOFFSETFROM:-0400
TZOFFSETTO:-0500
TZNAME:EST
DTSTART:20201101T060000
END:STANDARD
BEGIN:DAYLIGHT
TZOFFSETFROM:-0500
TZOFFSETTO:-0400
TZNAME:EDT
DTSTART:20210314T070000
END:DAYLIGHT
BEGIN:STANDARD
TZOFFSETFROM:-0400
TZOFFSETTO:-0500
TZNAME:EST
DTSTART:20211107T060000
END:STANDARD
BEGIN:DAYLIGHT
TZOFFSETFROM:-0500
TZOFFSETTO:-0400
TZNAME:EDT
DTSTART:20220313T070000
END:DAYLIGHT
BEGIN:STANDARD
TZOFFSETFROM:-0400
TZOFFSETTO:-0500
TZNAME:EST
DTSTART:20221106T060000
END:STANDARD
END:VTIMEZONE
BEGIN:VEVENT
DTSTART;TZID=America/Toronto:20210930T191500
DTEND;TZID=America/Toronto:20210930T211500
DTSTAMP:20260420T172646
CREATED:20210922T191841Z
LAST-MODIFIED:20210922T191841Z
UID:6235-1633029300-1633036500@stpeterstoronto.ca
SUMMARY:The Apostle's Creed Lecture Series
DESCRIPTION:What does it mean to say\, “I believe”? \nFor thousands of years\, The Creed has arguably been the most recognizable confession of faith amongst Christians. As social\, political\, cultural\, and religious turmoil of all kinds have threatened God’s people throughout the centuries\, this confession has stood as a signal fire of the Church’s unique and distinct identity in the midst of an ever-changing world. To this day\, Catholics\, Orthodox\, and Protestants alike profess The Creed at Baptisms and Confirmations\, during Holy Masses\, and even in prayers and songs. More than just a mindless recitation of religious words\, The Creed is truly meant to act as a repeated pledge of allegiance\, a constant renewal of vows before God\, a continual commitment to conform our lives according to all that we claim to believe. And yet\, just like so many of the gifts we receive\, The Creed can be so easy to take for granted\, and we can quickly forget and lose sight of its true worth. \nOver the course of 12 weeks this Fall we will dive into this ancient yet ever-present treasure of our faith. Each week we will unpack and explore a particular section of the Creed and wrestle with questions like\, “Should these beliefs even matter to me?”\, “Are these claims actually true?”\, “How would my life be different if I really lived in light of these realities?”\, and so many more.  \nIf these are questions you’ve found yourself asking\, if you’ve wanted to further your understanding of and deepen your love for our faith\, or even if this is the first time you’ve really considered some of these things seriously\, we would be delighted to have you join us.  \n“I believe; help my unbelief!” -Mark 9:24 \nJoin us Thursday Evenings starting at 7:15 pm in the Auditorium. Seating Limited by Covid Protocols\, First Come\, First Seated. For more information contact the parish office at 416.534.4219 \n\nSeptember 30 – Study 1: Introduction to The Creed\nOctober 7 – Study 2: I believe in God\, the Father Almighty\, Creator of Heaven and earth\nOctober 14 – Study 3: And in Jesus Christ\, His only Son Our Lord\nOctober 21 – Study 4: Who was conceived by the Holy Spirit\, born of the Virgin Mary\nOctober 28 – Study 5: Suffered under Pontius Pilate\, was crucified\, died\, and was buried\nNovember 4 – Study 6: He descended into Hell; the third day He rose again from the dead\nNovember 11 – Study 7: He ascended into Heaven\, and is seated at the right hand of God\, the Father almighty; from there He will come to judge the living and the dead\nNovember 18 – Study 8: I believe in the Holy Spirit\nNovember 25 – Study 9: The Holy Catholic Church\, the communion of saints\nDecember 2 – Study 10: The forgiveness of sins\nDecember 9 – Study 11: The resurrection of the body and life everlasting\nDecember 16 – Study 12: Amen.\n\n 
URL:https://stpeterstoronto.ca/main/events/the-apostles-creed-lecture-series/2021-09-30/
LOCATION:St. Peter’s Church – Auditorium\, 659 Markham Street\, Toronto\, Ontario\, M6G 2M1\, Canada
CATEGORIES:Workshop
GEO:43.6656351;-79.4125088
X-APPLE-STRUCTURED-LOCATION;VALUE=URI;X-ADDRESS=St. Peter’s Church – Auditorium 659 Markham Street Toronto Ontario M6G 2M1 Canada;X-APPLE-RADIUS=500;X-TITLE=659 Markham Street:geo:-79.4125088,43.6656351
END:VEVENT
END:VCALENDAR