BEGIN:VCALENDAR
VERSION:2.0
PRODID:-//St. Peter&#039;s Church - ECPv6.15.20//NONSGML v1.0//EN
CALSCALE:GREGORIAN
METHOD:PUBLISH
X-ORIGINAL-URL:https://stpeterstoronto.ca/main
X-WR-CALDESC:Events for St. Peter&#039;s Church
REFRESH-INTERVAL;VALUE=DURATION:PT1H
X-Robots-Tag:noindex
X-PUBLISHED-TTL:PT1H
BEGIN:VTIMEZONE
TZID:America/Toronto
BEGIN:DAYLIGHT
TZOFFSETFROM:-0500
TZOFFSETTO:-0400
TZNAME:EDT
DTSTART:20230312T070000
END:DAYLIGHT
BEGIN:STANDARD
TZOFFSETFROM:-0400
TZOFFSETTO:-0500
TZNAME:EST
DTSTART:20231105T060000
END:STANDARD
BEGIN:DAYLIGHT
TZOFFSETFROM:-0500
TZOFFSETTO:-0400
TZNAME:EDT
DTSTART:20240310T070000
END:DAYLIGHT
BEGIN:STANDARD
TZOFFSETFROM:-0400
TZOFFSETTO:-0500
TZNAME:EST
DTSTART:20241103T060000
END:STANDARD
BEGIN:DAYLIGHT
TZOFFSETFROM:-0500
TZOFFSETTO:-0400
TZNAME:EDT
DTSTART:20250309T070000
END:DAYLIGHT
BEGIN:STANDARD
TZOFFSETFROM:-0400
TZOFFSETTO:-0500
TZNAME:EST
DTSTART:20251102T060000
END:STANDARD
END:VTIMEZONE
BEGIN:VEVENT
DTSTART;TZID=America/Toronto:20240714T120000
DTEND;TZID=America/Toronto:20240714T133000
DTSTAMP:20260419T103559
CREATED:20240123T231326Z
LAST-MODIFIED:20240723T213842Z
UID:11168-1720958400-1720963800@stpeterstoronto.ca
SUMMARY:Cancelled - Themed Coffee Hour: BBQ Sundays
DESCRIPTION:CANCELLED: BBQ Sunday\, August 11th \nUnfortunately\, due to flooding in the auditorium and kitchen\, we must cancel the BBQ scheduled for August 11th. These facilities are currently out of service. We will inform the community of the new BBQ date once we receive approval to use these spaces again. Thank you for your patience.\n \nOn Sunday\, July 14 and Sunday\, August 11\, following the 11:15 am Mass\,\njoin us for a themed Coffee Hour!\nCome for coffee\, a featured dish\, friendly conversations and family activities!
URL:https://stpeterstoronto.ca/main/events/themed-coffee-hour-bbq-sundays-2024/2024-07-14/
LOCATION:St. Peter’s Church – Main\, 659 Markham Street\, Toronto\, Ontario\, M6G 2M1\, Canada
CATEGORIES:Social
GEO:43.6656351;-79.4125088
X-APPLE-STRUCTURED-LOCATION;VALUE=URI;X-ADDRESS=St. Peter’s Church – Main 659 Markham Street Toronto Ontario M6G 2M1 Canada;X-APPLE-RADIUS=500;X-TITLE=659 Markham Street:geo:-79.4125088,43.6656351
END:VEVENT
END:VCALENDAR