BEGIN:VCALENDAR
VERSION:2.0
PRODID:-//St. Peter&#039;s Church - ECPv6.15.20//NONSGML v1.0//EN
CALSCALE:GREGORIAN
METHOD:PUBLISH
X-ORIGINAL-URL:https://stpeterstoronto.ca/main
X-WR-CALDESC:Events for St. Peter&#039;s Church
REFRESH-INTERVAL;VALUE=DURATION:PT1H
X-Robots-Tag:noindex
X-PUBLISHED-TTL:PT1H
BEGIN:VTIMEZONE
TZID:America/Toronto
BEGIN:DAYLIGHT
TZOFFSETFROM:-0500
TZOFFSETTO:-0400
TZNAME:EDT
DTSTART:20140309T070000
END:DAYLIGHT
BEGIN:STANDARD
TZOFFSETFROM:-0400
TZOFFSETTO:-0500
TZNAME:EST
DTSTART:20141102T060000
END:STANDARD
BEGIN:DAYLIGHT
TZOFFSETFROM:-0500
TZOFFSETTO:-0400
TZNAME:EDT
DTSTART:20150308T070000
END:DAYLIGHT
BEGIN:STANDARD
TZOFFSETFROM:-0400
TZOFFSETTO:-0500
TZNAME:EST
DTSTART:20151101T060000
END:STANDARD
BEGIN:DAYLIGHT
TZOFFSETFROM:-0500
TZOFFSETTO:-0400
TZNAME:EDT
DTSTART:20160313T070000
END:DAYLIGHT
BEGIN:STANDARD
TZOFFSETFROM:-0400
TZOFFSETTO:-0500
TZNAME:EST
DTSTART:20161106T060000
END:STANDARD
BEGIN:DAYLIGHT
TZOFFSETFROM:-0500
TZOFFSETTO:-0400
TZNAME:EDT
DTSTART:20170312T070000
END:DAYLIGHT
BEGIN:STANDARD
TZOFFSETFROM:-0400
TZOFFSETTO:-0500
TZNAME:EST
DTSTART:20171105T060000
END:STANDARD
END:VTIMEZONE
BEGIN:VEVENT
DTSTART;TZID=America/Toronto:20161218T001500
DTEND;TZID=America/Toronto:20161218T140000
DTSTAMP:20260425T172118
CREATED:20161215T190028Z
LAST-MODIFIED:20161202T034000Z
UID:1671-1482020100-1482069600@stpeterstoronto.ca
SUMMARY:Christmas Posada Celebration at St. Peter’s!
DESCRIPTION:The Young Families Group will be hosting its first Christmas Posada at St. Peter’s. A Posada is a traditional Mexican Advent celebration symbolizing Mary and Joseph’s pilgrimage as they enter Bethlehem\, in search for a place to stay where Jesus could be born. Come join us on Sunday\, December 18th after 11:15 AM Mass at the Parish Hall to enjoy a typical Posada procession\, Christmas carols\, Mexican treats\, and breaking a piñata!! Volunteer families are needed to participate as villagers for the procession. For more information\, please call Diana and Pablo at 416-303-5207\, or look for them at the end of 6 PM Mass on Sundays.
URL:https://stpeterstoronto.ca/main/events/christmas-posada-celebration-at-st-peters/
LOCATION:St. Peter’s Church – Auditorium\, 659 Markham Street\, Toronto\, Ontario\, M6G 2M1\, Canada
CATEGORIES:Social
GEO:43.6656351;-79.4125088
X-APPLE-STRUCTURED-LOCATION;VALUE=URI;X-ADDRESS=St. Peter’s Church – Auditorium 659 Markham Street Toronto Ontario M6G 2M1 Canada;X-APPLE-RADIUS=500;X-TITLE=659 Markham Street:geo:-79.4125088,43.6656351
END:VEVENT
BEGIN:VEVENT
DTSTART;TZID=America/Toronto:20161203T140000
DTEND;TZID=America/Toronto:20161204T150000
DTSTAMP:20260425T172118
CREATED:20161124T150038Z
LAST-MODIFIED:20161110T220013Z
UID:1602-1480773600-1480863600@stpeterstoronto.ca
SUMMARY:Advent Cheer\, Bazaar and Bake Sale!  December 3-4\, 2016
DESCRIPTION:Join us for Advent Bazaar and Bake Sale on Saturday\, December 3 from 2:00 PM – 7:00 PM and on Sunday\, December 4 from 10:00 AM to 3:00 PM in the Church Auditorium. Come celebrate this wonderful time of the year in fellowship and cheer.
URL:https://stpeterstoronto.ca/main/events/advent-cheer-bazaar-and-bake-sale-december-3-4-2016/
LOCATION:St. Peter’s Church – Auditorium\, 659 Markham Street\, Toronto\, Ontario\, M6G 2M1\, Canada
CATEGORIES:Social
GEO:43.6656351;-79.4125088
X-APPLE-STRUCTURED-LOCATION;VALUE=URI;X-ADDRESS=St. Peter’s Church – Auditorium 659 Markham Street Toronto Ontario M6G 2M1 Canada;X-APPLE-RADIUS=500;X-TITLE=659 Markham Street:geo:-79.4125088,43.6656351
END:VEVENT
BEGIN:VEVENT
DTSTART;TZID=America/Toronto:20161026T190000
DTEND;TZID=America/Toronto:20161026T210000
DTSTAMP:20260425T172118
CREATED:20161012T135948Z
LAST-MODIFIED:20161006T203331Z
UID:1523-1477508400-1477515600@stpeterstoronto.ca
SUMMARY:Fall Fair Volunteer Appreciation Dinner 2016
DESCRIPTION:
URL:https://stpeterstoronto.ca/main/events/fall-fair-volunteer-appreciation-dinner-2016/
LOCATION:St. Peter’s Church – Auditorium\, 659 Markham Street\, Toronto\, Ontario\, M6G 2M1\, Canada
CATEGORIES:Social
GEO:43.6656351;-79.4125088
X-APPLE-STRUCTURED-LOCATION;VALUE=URI;X-ADDRESS=St. Peter’s Church – Auditorium 659 Markham Street Toronto Ontario M6G 2M1 Canada;X-APPLE-RADIUS=500;X-TITLE=659 Markham Street:geo:-79.4125088,43.6656351
END:VEVENT
BEGIN:VEVENT
DTSTART;TZID=America/Toronto:20161023T100000
DTEND;TZID=America/Toronto:20161023T130000
DTSTAMP:20260425T172118
CREATED:20161018T180050Z
LAST-MODIFIED:20161012T194016Z
UID:1543-1477216800-1477227600@stpeterstoronto.ca
SUMMARY:Coffee Sunday - October 23\, 2016
DESCRIPTION:We invite you to join us for a regular coffee hour on Sunday\, October 23\, after the 9 am and 11:15 am Masses in the Church auditorium. All are welcome!
URL:https://stpeterstoronto.ca/main/events/coffee-sunday-october-23-2016/
LOCATION:St. Peter’s Church – Auditorium\, 659 Markham Street\, Toronto\, Ontario\, M6G 2M1\, Canada
CATEGORIES:Social
GEO:43.6656351;-79.4125088
X-APPLE-STRUCTURED-LOCATION;VALUE=URI;X-ADDRESS=St. Peter’s Church – Auditorium 659 Markham Street Toronto Ontario M6G 2M1 Canada;X-APPLE-RADIUS=500;X-TITLE=659 Markham Street:geo:-79.4125088,43.6656351
END:VEVENT
BEGIN:VEVENT
DTSTART;TZID=America/Toronto:20160924T180000
DTEND;TZID=America/Toronto:20160925T130000
DTSTAMP:20260425T172118
CREATED:20160912T180045Z
LAST-MODIFIED:20160909T174704Z
UID:1452-1474740000-1474808400@stpeterstoronto.ca
SUMMARY:Coffee Hour - September 24-25\, 2016
DESCRIPTION:We will be having Coffee Hour on Saturday\, September 24\, after 5 PM Mass and on Sunday\, September 25\, after the 9 AM and 11:15 AM Masses in the Church Auditorium. Please join us for refreshments and good company.
URL:https://stpeterstoronto.ca/main/events/coffee-hour-september-24-25-2016/
LOCATION:St. Peter’s Church – Auditorium\, 659 Markham Street\, Toronto\, Ontario\, M6G 2M1\, Canada
CATEGORIES:Social
GEO:43.6656351;-79.4125088
X-APPLE-STRUCTURED-LOCATION;VALUE=URI;X-ADDRESS=St. Peter’s Church – Auditorium 659 Markham Street Toronto Ontario M6G 2M1 Canada;X-APPLE-RADIUS=500;X-TITLE=659 Markham Street:geo:-79.4125088,43.6656351
END:VEVENT
BEGIN:VEVENT
DTSTART;TZID=America/Toronto:20160605T100000
DTEND;TZID=America/Toronto:20160605T130000
DTSTAMP:20260425T172118
CREATED:20160526T180049Z
LAST-MODIFIED:20160525T160813Z
UID:1154-1465120800-1465131600@stpeterstoronto.ca
SUMMARY:Coffee Sunday for Fr. Yaw
DESCRIPTION:Our Community has known since he arrived that Fr. Yaw Acheampong was only going to be with us for a year to help with the transition. On June 30\, 2016\, Fr. Yaw will become the pastor of Our Lady of Peace Parish in Etobicoke. There will be a Coffee Sunday  after the 9:00 and 11:15 AM Masses on Sunday\, June 5\, in the Church auditorium to thank Fr. Yaw for his time here at St. Peter’s.  His last Sunday here will be June 12\, 2016. Congratulations to Fr. Yaw. Let us pray that the Lord will bless him in his new assignment.
URL:https://stpeterstoronto.ca/main/events/coffee-sunday-for-fr-yaw/
LOCATION:St. Peter’s Church – Auditorium\, 659 Markham Street\, Toronto\, Ontario\, M6G 2M1\, Canada
CATEGORIES:Social
GEO:43.6656351;-79.4125088
X-APPLE-STRUCTURED-LOCATION;VALUE=URI;X-ADDRESS=St. Peter’s Church – Auditorium 659 Markham Street Toronto Ontario M6G 2M1 Canada;X-APPLE-RADIUS=500;X-TITLE=659 Markham Street:geo:-79.4125088,43.6656351
END:VEVENT
BEGIN:VEVENT
DTSTART;TZID=America/Toronto:20160507T140000
DTEND;TZID=America/Toronto:20160507T190000
DTSTAMP:20260425T172118
CREATED:20160429T180020Z
LAST-MODIFIED:20160428T192602Z
UID:1081-1462629600-1462647600@stpeterstoronto.ca
SUMMARY:Spring Bazaar and Bake Sale: Saturday\, May 7 & Sunday\, May 8
DESCRIPTION:The parish will have a spring bazaar and bake sale on the weekend of May 7 and May 8. It will take place on Saturday\, May 7 from 2:00 PM – 7:00 PM and Sunday\, May 8 from 10:00 AM – 3:00 PM. Please come and support the parish at our Spring Bazaar.
URL:https://stpeterstoronto.ca/main/events/spring-bazaar-and-bake-sale-saturday-may-7-sunday-may-8/2016-05-07/
LOCATION:St. Peter’s Church – Auditorium\, 659 Markham Street\, Toronto\, Ontario\, M6G 2M1\, Canada
CATEGORIES:Social
GEO:43.6656351;-79.4125088
X-APPLE-STRUCTURED-LOCATION;VALUE=URI;X-ADDRESS=St. Peter’s Church – Auditorium 659 Markham Street Toronto Ontario M6G 2M1 Canada;X-APPLE-RADIUS=500;X-TITLE=659 Markham Street:geo:-79.4125088,43.6656351
END:VEVENT
BEGIN:VEVENT
DTSTART;TZID=America/Toronto:20160425T180000
DTEND;TZID=America/Toronto:20160425T200000
DTSTAMP:20260425T172118
CREATED:20160413T140003Z
LAST-MODIFIED:20160406T201814Z
UID:988-1461607200-1461614400@stpeterstoronto.ca
SUMMARY:Winter Welcome Table Thank You!
DESCRIPTION:The annual winter welcome table appreciation dinner for the volunteers will take place on Monday\, April 25 with Mass at 5:00 PM at St. Peter’s Church and thereafter dinner at the Church auditorium…we look forward to seeing you again!
URL:https://stpeterstoronto.ca/main/events/winter-welcome-table-thank-you/
LOCATION:St. Peter’s Church – Auditorium\, 659 Markham Street\, Toronto\, Ontario\, M6G 2M1\, Canada
CATEGORIES:Outreach,Social
GEO:43.6656351;-79.4125088
X-APPLE-STRUCTURED-LOCATION;VALUE=URI;X-ADDRESS=St. Peter’s Church – Auditorium 659 Markham Street Toronto Ontario M6G 2M1 Canada;X-APPLE-RADIUS=500;X-TITLE=659 Markham Street:geo:-79.4125088,43.6656351
END:VEVENT
BEGIN:VEVENT
DTSTART;TZID=America/Toronto:20160424T100000
DTEND;TZID=America/Toronto:20160424T130000
DTSTAMP:20260425T172118
CREATED:20160412T140019Z
LAST-MODIFIED:20160406T201940Z
UID:989-1461492000-1461502800@stpeterstoronto.ca
SUMMARY:Coffee Sunday - April 24
DESCRIPTION:We invite you to join us for a regular coffee hour on Sunday\, April 24\, after the 9 am and 11:15 am Masses in the Church auditorium. All are welcome!
URL:https://stpeterstoronto.ca/main/events/coffee-sunday-april-24/
LOCATION:St. Peter’s Church – Auditorium\, 659 Markham Street\, Toronto\, Ontario\, M6G 2M1\, Canada
CATEGORIES:Social
GEO:43.6656351;-79.4125088
X-APPLE-STRUCTURED-LOCATION;VALUE=URI;X-ADDRESS=St. Peter’s Church – Auditorium 659 Markham Street Toronto Ontario M6G 2M1 Canada;X-APPLE-RADIUS=500;X-TITLE=659 Markham Street:geo:-79.4125088,43.6656351
END:VEVENT
BEGIN:VEVENT
DTSTART;TZID=America/Toronto:20160417T123000
DTEND;TZID=America/Toronto:20160417T140000
DTSTAMP:20260425T172118
CREATED:20160322T200026Z
LAST-MODIFIED:20170302T171539Z
UID:924-1460896200-1460901600@stpeterstoronto.ca
SUMMARY:Sunday Glaze Craze Event\, Hosted by the Youth Ministry
DESCRIPTION:Join us on Sunday\, April 17th\, 2016 for a pizza lunch and some crazy fun crafts. Kids get a fun afternoon making amazing pottery painting creations\, with the assistance of our Glaze Craze party coordinator. This activity is suitable for kids of all ages! \nYou are more than welcome to bring in your own food\, but as we are a nut free facility\, please be aware that any food suspected of containing nuts will not be permitted. \nDetails Below:\nDate: Sunday April 17th\, 2016\nTime: 12:30pm- 2pm\nLocation: 840 Bathurst Street\, via side door under archway.\nSt. Peter’s Church\, located in the Church Auditorium\nPrice: No Cost to attend. \nIf interested please R.S.V.P with the parish office by April 8th\, 2016 by: \nTel: 416-534-4219\,  St. Peter’s Parish Office or\nEmail: youngadult-youthmin@stpeterstoronto.ca\, Alessya D’Anna
URL:https://stpeterstoronto.ca/main/events/sunday-glaze-craze-event-hosted-by-the-youth-ministr/
LOCATION:St. Peter’s Church – Auditorium\, 659 Markham Street\, Toronto\, Ontario\, M6G 2M1\, Canada
CATEGORIES:Youth Group
ORGANIZER;CN="Alessya D'Anna":MAILTO:youngadult-youthmin@stpeterstoronto.ca
GEO:43.6656351;-79.4125088
X-APPLE-STRUCTURED-LOCATION;VALUE=URI;X-ADDRESS=St. Peter’s Church – Auditorium 659 Markham Street Toronto Ontario M6G 2M1 Canada;X-APPLE-RADIUS=500;X-TITLE=659 Markham Street:geo:-79.4125088,43.6656351
END:VEVENT
BEGIN:VEVENT
DTSTART;TZID=America/Toronto:20160313T100000
DTEND;TZID=America/Toronto:20160313T130000
DTSTAMP:20260425T172118
CREATED:20160308T190035Z
LAST-MODIFIED:20160224T233351Z
UID:854-1457863200-1457874000@stpeterstoronto.ca
SUMMARY:Coffee Hour - Sunday\, March 13
DESCRIPTION:We invite you to join us for a regular coffee hour on Sunday\, March 13\, after the 9 am and 11:15 am Masses in the Church auditorium. All are welcome.
URL:https://stpeterstoronto.ca/main/events/coffee-hour-sunday-march-13/
LOCATION:St. Peter’s Church – Auditorium\, 659 Markham Street\, Toronto\, Ontario\, M6G 2M1\, Canada
CATEGORIES:Social
GEO:43.6656351;-79.4125088
X-APPLE-STRUCTURED-LOCATION;VALUE=URI;X-ADDRESS=St. Peter’s Church – Auditorium 659 Markham Street Toronto Ontario M6G 2M1 Canada;X-APPLE-RADIUS=500;X-TITLE=659 Markham Street:geo:-79.4125088,43.6656351
END:VEVENT
BEGIN:VEVENT
DTSTART;TZID=America/Toronto:20160213T180000
DTEND;TZID=America/Toronto:20160214T130000
DTSTAMP:20260425T172118
CREATED:20160202T150004Z
LAST-MODIFIED:20160128T195232Z
UID:807-1455386400-1455454800@stpeterstoronto.ca
SUMMARY:Special Valentine Coffee Hour – Saturday\, Feb.13 and Sunday\, Feb.14
DESCRIPTION:We invite you to join us for a special Valentine’s Day Coffee hour on Saturday\, February\, 13 after the 5 PM Mass and on Sunday\, February 14\, after the 9 am and 11:15 am Masses in the Church auditorium. Valentine goodies will be on sale. All are welcome!
URL:https://stpeterstoronto.ca/main/events/special-valentine-coffee-hour-saturday-feb-13-and-sunday-feb-14/
LOCATION:St. Peter’s Church – Auditorium\, 659 Markham Street\, Toronto\, Ontario\, M6G 2M1\, Canada
CATEGORIES:Social
GEO:43.6656351;-79.4125088
X-APPLE-STRUCTURED-LOCATION;VALUE=URI;X-ADDRESS=St. Peter’s Church – Auditorium 659 Markham Street Toronto Ontario M6G 2M1 Canada;X-APPLE-RADIUS=500;X-TITLE=659 Markham Street:geo:-79.4125088,43.6656351
END:VEVENT
BEGIN:VEVENT
DTSTART;TZID=America/Toronto:20160116T100000
DTEND;TZID=America/Toronto:20160117T180000
DTSTAMP:20260425T172118
CREATED:20151221T200735Z
LAST-MODIFIED:20151218T040931Z
UID:656-1452938400-1453053600@stpeterstoronto.ca
SUMMARY:Ministry Fair - Come and Get Involved
DESCRIPTION:Would you like to get more involved in the Parish? You all are welcome to join our “Ministry Fair” that will be held on Saturday\, January 16 and on Sunday\, January 17\, in the Church auditorium. We will also be having the Coffee hour at the same time in the Church auditorium after all the Masses.
URL:https://stpeterstoronto.ca/main/events/ministry-fair-come-and-get-involved/
LOCATION:St. Peter’s Church – Auditorium\, 659 Markham Street\, Toronto\, Ontario\, M6G 2M1\, Canada
CATEGORIES:Outreach,Social
GEO:43.6656351;-79.4125088
X-APPLE-STRUCTURED-LOCATION;VALUE=URI;X-ADDRESS=St. Peter’s Church – Auditorium 659 Markham Street Toronto Ontario M6G 2M1 Canada;X-APPLE-RADIUS=500;X-TITLE=659 Markham Street:geo:-79.4125088,43.6656351
END:VEVENT
BEGIN:VEVENT
DTSTART;TZID=America/Toronto:20151213T100000
DTEND;TZID=America/Toronto:20151213T130000
DTSTAMP:20260425T172118
CREATED:20151201T150002Z
LAST-MODIFIED:20151124T220241Z
UID:618-1450000800-1450011600@stpeterstoronto.ca
SUMMARY:Coffee Hour - Sunday\, December 13
DESCRIPTION:We invite you to join us for a regular coffee hour on Sunday\, December 13\, after the 9 am and 11:15 am Masses in the Church auditorium. All are welcome!
URL:https://stpeterstoronto.ca/main/events/coffee-hour-sunday-december-13/
LOCATION:St. Peter’s Church – Auditorium\, 659 Markham Street\, Toronto\, Ontario\, M6G 2M1\, Canada
CATEGORIES:Social
GEO:43.6656351;-79.4125088
X-APPLE-STRUCTURED-LOCATION;VALUE=URI;X-ADDRESS=St. Peter’s Church – Auditorium 659 Markham Street Toronto Ontario M6G 2M1 Canada;X-APPLE-RADIUS=500;X-TITLE=659 Markham Street:geo:-79.4125088,43.6656351
END:VEVENT
BEGIN:VEVENT
DTSTART;TZID=America/Toronto:20151128T140000
DTEND;TZID=America/Toronto:20151129T150000
DTSTAMP:20260425T172118
CREATED:20151109T162648Z
LAST-MODIFIED:20151109T162159Z
UID:568-1448719200-1448809200@stpeterstoronto.ca
SUMMARY:Advent Cheer\, Bazaar and Bake Sale!
DESCRIPTION:Join us for Advent Cheer\, Bazaar and Bake Sale on Saturday\, November 28 from 2:00 PM – 7:00 PM and on Sunday\, November 29 from 10:00 AM to 3:00 PM in the Church Auditorium. Come celebrate this wonderful time of the year in fellowship and cheer.
URL:https://stpeterstoronto.ca/main/events/advent-cheer-bazaar-and-bake-sale/
LOCATION:St. Peter’s Church – Auditorium\, 659 Markham Street\, Toronto\, Ontario\, M6G 2M1\, Canada
CATEGORIES:Social
GEO:43.6656351;-79.4125088
X-APPLE-STRUCTURED-LOCATION;VALUE=URI;X-ADDRESS=St. Peter’s Church – Auditorium 659 Markham Street Toronto Ontario M6G 2M1 Canada;X-APPLE-RADIUS=500;X-TITLE=659 Markham Street:geo:-79.4125088,43.6656351
END:VEVENT
BEGIN:VEVENT
DTSTART;TZID=America/Toronto:20151101T100000
DTEND;TZID=America/Toronto:20151101T130000
DTSTAMP:20260425T172118
CREATED:20151019T152522Z
LAST-MODIFIED:20151013T192536Z
UID:514-1446372000-1446382800@stpeterstoronto.ca
SUMMARY:Coffee Hour
DESCRIPTION:We invite you to join us for  a regular coffee hour on Sunday\, November 1\, after the 9 am and 11:15 am Masses in the Church auditorium. The next Coffee Hour for this year will take place on Sunday\, December 13. All are welcome!
URL:https://stpeterstoronto.ca/main/events/coffee-hour/
LOCATION:St. Peter’s Church – Auditorium\, 659 Markham Street\, Toronto\, Ontario\, M6G 2M1\, Canada
CATEGORIES:Social
GEO:43.6656351;-79.4125088
X-APPLE-STRUCTURED-LOCATION;VALUE=URI;X-ADDRESS=St. Peter’s Church – Auditorium 659 Markham Street Toronto Ontario M6G 2M1 Canada;X-APPLE-RADIUS=500;X-TITLE=659 Markham Street:geo:-79.4125088,43.6656351
END:VEVENT
BEGIN:VEVENT
DTSTART;TZID=America/Toronto:20151029T190000
DTEND;TZID=America/Toronto:20151029T210000
DTSTAMP:20260425T172118
CREATED:20151008T192222Z
LAST-MODIFIED:20151006T192342Z
UID:486-1446145200-1446152400@stpeterstoronto.ca
SUMMARY:Fall Fair Thank-you Dinner
DESCRIPTION:We offer many thanks to all who worked so hard for a successful Fall Fair this year.\nThere were many people who donated\, worked and contributed to this success. Just as important to the success of the Fair is the involvement of so many parish people and groups. Much gratitude is extended to all involved. \nAll volunteers who have helped with the Fall Fair are invited to a thank you dinner in the Parish auditorium at 7:00 PM on Thursday\, October 29. Thank you again for everything!
URL:https://stpeterstoronto.ca/main/events/fall-fair-thank-you-dinner/
LOCATION:St. Peter’s Church – Auditorium\, 659 Markham Street\, Toronto\, Ontario\, M6G 2M1\, Canada
CATEGORIES:Social
GEO:43.6656351;-79.4125088
X-APPLE-STRUCTURED-LOCATION;VALUE=URI;X-ADDRESS=St. Peter’s Church – Auditorium 659 Markham Street Toronto Ontario M6G 2M1 Canada;X-APPLE-RADIUS=500;X-TITLE=659 Markham Street:geo:-79.4125088,43.6656351
END:VEVENT
BEGIN:VEVENT
DTSTART;TZID=America/Toronto:20151027T193000
DTEND;TZID=America/Toronto:20151027T210000
DTSTAMP:20260425T172118
CREATED:20151014T142258Z
LAST-MODIFIED:20151013T192320Z
UID:513-1445974200-1445979600@stpeterstoronto.ca
SUMMARY:Winter Welcome Table Volunteer Orientation
DESCRIPTION:Winter welcome table is returning….the program to feed the homeless and marginalized of the inner city\,primarily in the annex area….will start again November 2. \nAll interested  volunteers are asked to attend an Orientation meeting will be held on October 27 at 7:30 pm in the auditorium of St Peters Church (door under archway entry)
URL:https://stpeterstoronto.ca/main/events/winter-welcome-table-volunteer-orientation/
LOCATION:St. Peter’s Church – Auditorium\, 659 Markham Street\, Toronto\, Ontario\, M6G 2M1\, Canada
CATEGORIES:Outreach
GEO:43.6656351;-79.4125088
X-APPLE-STRUCTURED-LOCATION;VALUE=URI;X-ADDRESS=St. Peter’s Church – Auditorium 659 Markham Street Toronto Ontario M6G 2M1 Canada;X-APPLE-RADIUS=500;X-TITLE=659 Markham Street:geo:-79.4125088,43.6656351
END:VEVENT
BEGIN:VEVENT
DTSTART;VALUE=DATE:20151003
DTEND;VALUE=DATE:20151006
DTSTAMP:20260425T172118
CREATED:20150825T000008Z
LAST-MODIFIED:20150919T151139Z
UID:381-1443837600-1444010399@stpeterstoronto.ca
SUMMARY:Fall Fair 2015
DESCRIPTION:St. Peter’s Fall Fair is our annual get together and fund-raising event. \nIt’s part flea market\, part hidden treasure hunt\, and a BIG part food festival! We are a multicultural parish and the foods on offer come from our amazing Italian\, Portuguese\, Filipino\, Korean\, and German parishioners… heck the whole world is on offer! \nWe are always open to donation\, but please no junk. This is our big fundraiser for the year\, and it costs us money to throw out leftover stuff. Think of the nice things you don’t need any longer and consider donating them to the St. Peter’s Fall Fair. \nAnd we always need volunteers to handle everything from the bake sale to running the cash. \nFall Fair Schedule:\nSaturday\, October 3 – 12 Noon – 7 PM\nSunday\, October 4 – 10 AM – 8 PM
URL:https://stpeterstoronto.ca/main/events/fall-fair-2015/
LOCATION:St. Peter’s Church – Auditorium\, 659 Markham Street\, Toronto\, Ontario\, M6G 2M1\, Canada
CATEGORIES:Social
GEO:43.6656351;-79.4125088
X-APPLE-STRUCTURED-LOCATION;VALUE=URI;X-ADDRESS=St. Peter’s Church – Auditorium 659 Markham Street Toronto Ontario M6G 2M1 Canada;X-APPLE-RADIUS=500;X-TITLE=659 Markham Street:geo:-79.4125088,43.6656351
END:VEVENT
BEGIN:VEVENT
DTSTART;TZID=America/Toronto:20150920T100000
DTEND;TZID=America/Toronto:20150920T130000
DTSTAMP:20260425T172118
CREATED:20150915T144637Z
LAST-MODIFIED:20150910T234841Z
UID:425-1442743200-1442754000@stpeterstoronto.ca
SUMMARY:Coffee Hour - Sunday\, September 20
DESCRIPTION:Starting Sunday\, September 20th\, we will be having a regular coffee hour after the 9 am and 11:15 am Masses. These will take place every 6 weeks throughout this year. Following are the dates for this year’s Coffee Hour: Sunday\, November 1 and Sunday\, December 13. Please join us for refreshments and good company.
URL:https://stpeterstoronto.ca/main/events/coffee-hour-sunday-september-20/
LOCATION:St. Peter’s Church – Auditorium\, 659 Markham Street\, Toronto\, Ontario\, M6G 2M1\, Canada
CATEGORIES:Social
GEO:43.6656351;-79.4125088
X-APPLE-STRUCTURED-LOCATION;VALUE=URI;X-ADDRESS=St. Peter’s Church – Auditorium 659 Markham Street Toronto Ontario M6G 2M1 Canada;X-APPLE-RADIUS=500;X-TITLE=659 Markham Street:geo:-79.4125088,43.6656351
END:VEVENT
END:VCALENDAR